BEGIN:VCALENDAR
VERSION:2.0
PRODID:-//Lee University Events - ECPv6.15.20//NONSGML v1.0//EN
CALSCALE:GREGORIAN
METHOD:PUBLISH
X-ORIGINAL-URL:https://events.leeuniversity.edu
X-WR-CALDESC:Events for Lee University Events
REFRESH-INTERVAL;VALUE=DURATION:PT1H
X-Robots-Tag:noindex
X-PUBLISHED-TTL:PT1H
BEGIN:VTIMEZONE
TZID:America/New_York
BEGIN:DAYLIGHT
TZOFFSETFROM:-0500
TZOFFSETTO:-0400
TZNAME:EDT
DTSTART:20250309T070000
END:DAYLIGHT
BEGIN:STANDARD
TZOFFSETFROM:-0400
TZOFFSETTO:-0500
TZNAME:EST
DTSTART:20251102T060000
END:STANDARD
BEGIN:DAYLIGHT
TZOFFSETFROM:-0500
TZOFFSETTO:-0400
TZNAME:EDT
DTSTART:20260308T070000
END:DAYLIGHT
BEGIN:STANDARD
TZOFFSETFROM:-0400
TZOFFSETTO:-0500
TZNAME:EST
DTSTART:20261101T060000
END:STANDARD
BEGIN:DAYLIGHT
TZOFFSETFROM:-0500
TZOFFSETTO:-0400
TZNAME:EDT
DTSTART:20270314T070000
END:DAYLIGHT
BEGIN:STANDARD
TZOFFSETFROM:-0400
TZOFFSETTO:-0500
TZNAME:EST
DTSTART:20271107T060000
END:STANDARD
END:VTIMEZONE
BEGIN:VEVENT
DTSTART;TZID=America/New_York:20260119T133000
DTEND;TZID=America/New_York:20260119T151500
DTSTAMP:20260425T112208
CREATED:20260107T211135Z
LAST-MODIFIED:20260109T180941Z
UID:10003043-1768829400-1768835700@events.leeuniversity.edu
SUMMARY:MLK Jr. Day-Interactive Art and Lesser Known MLK Speeches
DESCRIPTION:Visit the Communication & Arts building to see interactive art of the Civil Rights movement and hear excerpts from Dr. King Jr’s sermons & speeches.
URL:https://events.leeuniversity.edu/event/mlk-jr-day-interactive-art-and-lesser-known-mlk-speeches/
LOCATION:Communication Arts Building\, 345 Church St N\, Cleveland\, TN\, 37311\, United States
CATEGORIES:Academic
ATTACH;FMTTYPE=image/png:https://events.leeuniversity.edu/wp-content/uploads/MLK-Jr-2026-thumbnail-3.png
END:VEVENT
END:VCALENDAR