BEGIN:VCALENDAR
VERSION:2.0
PRODID:-//Lee University Events - ECPv6.15.17.1//NONSGML v1.0//EN
CALSCALE:GREGORIAN
METHOD:PUBLISH
X-WR-CALNAME:Lee University Events
X-ORIGINAL-URL:https://events.leeuniversity.edu
X-WR-CALDESC:Events for Lee University Events
REFRESH-INTERVAL;VALUE=DURATION:PT1H
X-Robots-Tag:noindex
X-PUBLISHED-TTL:PT1H
BEGIN:VTIMEZONE
TZID:America/New_York
BEGIN:DAYLIGHT
TZOFFSETFROM:-0500
TZOFFSETTO:-0400
TZNAME:EDT
DTSTART:20240310T070000
END:DAYLIGHT
BEGIN:STANDARD
TZOFFSETFROM:-0400
TZOFFSETTO:-0500
TZNAME:EST
DTSTART:20241103T060000
END:STANDARD
BEGIN:DAYLIGHT
TZOFFSETFROM:-0500
TZOFFSETTO:-0400
TZNAME:EDT
DTSTART:20250309T070000
END:DAYLIGHT
BEGIN:STANDARD
TZOFFSETFROM:-0400
TZOFFSETTO:-0500
TZNAME:EST
DTSTART:20251102T060000
END:STANDARD
BEGIN:DAYLIGHT
TZOFFSETFROM:-0500
TZOFFSETTO:-0400
TZNAME:EDT
DTSTART:20260308T070000
END:DAYLIGHT
BEGIN:STANDARD
TZOFFSETFROM:-0400
TZOFFSETTO:-0500
TZNAME:EST
DTSTART:20261101T060000
END:STANDARD
BEGIN:DAYLIGHT
TZOFFSETFROM:-0500
TZOFFSETTO:-0400
TZNAME:EDT
DTSTART:20270314T070000
END:DAYLIGHT
BEGIN:STANDARD
TZOFFSETFROM:-0400
TZOFFSETTO:-0500
TZNAME:EST
DTSTART:20271107T060000
END:STANDARD
END:VTIMEZONE
BEGIN:VEVENT
DTSTART;TZID=America/New_York:20260419T130000
DTEND;TZID=America/New_York:20260419T150000
DTSTAMP:20260424T075913
CREATED:20251002T174449Z
LAST-MODIFIED:20260401T164150Z
UID:10002870-1776603600-1776610800@events.leeuniversity.edu
SUMMARY:Lee University Softball vs University of West Alabama
DESCRIPTION:Lee University Softball vs University of West AlabamaStreaming Video: https://flosports.link/49qtIrV
URL:https://events.leeuniversity.edu/event/lee-university-softball-vs-university-of-west-alabama-3/
LOCATION:Cleveland\, Tenn.\, Stanley Butler Softball Field
CATEGORIES:Athletics
ATTACH;FMTTYPE=image/jpeg:https://events.leeuniversity.edu/wp-content/uploads/Event-Header-Athletics-Default.jpg
END:VEVENT
BEGIN:VEVENT
DTSTART;TZID=America/New_York:20260418T150000
DTEND;TZID=America/New_York:20260418T170000
DTSTAMP:20260424T075913
CREATED:20251002T174445Z
LAST-MODIFIED:20260401T164149Z
UID:10002865-1776524400-1776531600@events.leeuniversity.edu
SUMMARY:Lee University Softball vs University of West Alabama
DESCRIPTION:Lee University Softball vs University of West AlabamaStreaming Video: https://flosports.link/49IhtpJ
URL:https://events.leeuniversity.edu/event/lee-university-softball-vs-university-of-west-alabama/
LOCATION:Cleveland\, Tenn.\, Stanley Butler Softball Field
CATEGORIES:Athletics
ATTACH;FMTTYPE=image/jpeg:https://events.leeuniversity.edu/wp-content/uploads/Event-Header-Athletics-Default.jpg
END:VEVENT
BEGIN:VEVENT
DTSTART;TZID=America/New_York:20260418T130000
DTEND;TZID=America/New_York:20260418T150000
DTSTAMP:20260424T075913
CREATED:20251002T174446Z
LAST-MODIFIED:20260401T164149Z
UID:10002866-1776517200-1776524400@events.leeuniversity.edu
SUMMARY:Lee University Softball vs University of West Alabama
DESCRIPTION:Lee University Softball vs University of West AlabamaStreaming Video: https://flosports.link/49IhtpJ
URL:https://events.leeuniversity.edu/event/lee-university-softball-vs-university-of-west-alabama-2/
LOCATION:Cleveland\, Tenn.\, Stanley Butler Softball Field
CATEGORIES:Athletics
ATTACH;FMTTYPE=image/jpeg:https://events.leeuniversity.edu/wp-content/uploads/Event-Header-Athletics-Default.jpg
END:VEVENT
BEGIN:VEVENT
DTSTART;TZID=America/New_York:20260414T160000
DTEND;TZID=America/New_York:20260414T180000
DTSTAMP:20260424T075913
CREATED:20251002T174444Z
LAST-MODIFIED:20260401T164149Z
UID:10002860-1776182400-1776189600@events.leeuniversity.edu
SUMMARY:Lee University Softball vs Tusculum University
DESCRIPTION:Lee University Softball vs Tusculum UniversityStreaming Video: https://flosports.link/4sLKOZ0
URL:https://events.leeuniversity.edu/event/lee-university-softball-vs-tusculum-university-2/
LOCATION:Cleveland\, Tenn.\, Stanley Butler Softball Field
CATEGORIES:Athletics
ATTACH;FMTTYPE=image/jpeg:https://events.leeuniversity.edu/wp-content/uploads/Event-Header-Athletics-Default.jpg
END:VEVENT
BEGIN:VEVENT
DTSTART;TZID=America/New_York:20260414T140000
DTEND;TZID=America/New_York:20260414T160000
DTSTAMP:20260424T075913
CREATED:20251002T174444Z
LAST-MODIFIED:20260401T164148Z
UID:10002859-1776175200-1776182400@events.leeuniversity.edu
SUMMARY:Lee University Softball vs Tusculum University
DESCRIPTION:Lee University Softball vs Tusculum UniversityStreaming Video: https://flosports.link/4sLKOZ0
URL:https://events.leeuniversity.edu/event/lee-university-softball-vs-tusculum-university/
LOCATION:Cleveland\, Tenn.\, Stanley Butler Softball Field
CATEGORIES:Athletics
ATTACH;FMTTYPE=image/jpeg:https://events.leeuniversity.edu/wp-content/uploads/Event-Header-Athletics-Default.jpg
END:VEVENT
BEGIN:VEVENT
DTSTART;TZID=America/New_York:20260411T150000
DTEND;TZID=America/New_York:20260411T170000
DTSTAMP:20260424T075913
CREATED:20251002T174443Z
LAST-MODIFIED:20260401T164148Z
UID:10002857-1775919600-1775926800@events.leeuniversity.edu
SUMMARY:Lee University Softball vs Valdosta State University
DESCRIPTION:Lee University Softball vs Valdosta State UniversityStreaming Video: https://flosports.link/4sEUPad
URL:https://events.leeuniversity.edu/event/lee-university-softball-vs-valdosta-state-university-3/
LOCATION:Cleveland\, Tenn.\, Stanley Butler Softball Field
CATEGORIES:Athletics
ATTACH;FMTTYPE=image/jpeg:https://events.leeuniversity.edu/wp-content/uploads/Event-Header-Athletics-Default.jpg
END:VEVENT
BEGIN:VEVENT
DTSTART;TZID=America/New_York:20260411T130000
DTEND;TZID=America/New_York:20260411T150000
DTSTAMP:20260424T075913
CREATED:20251002T174443Z
LAST-MODIFIED:20260401T164148Z
UID:10002855-1775912400-1775919600@events.leeuniversity.edu
SUMMARY:Lee University Softball vs Valdosta State University
DESCRIPTION:Lee University Softball vs Valdosta State UniversityStreaming Video: https://flosports.link/4sEUPad
URL:https://events.leeuniversity.edu/event/lee-university-softball-vs-valdosta-state-university-2/
LOCATION:Cleveland\, Tenn.\, Stanley Butler Softball Field
CATEGORIES:Athletics
ATTACH;FMTTYPE=image/jpeg:https://events.leeuniversity.edu/wp-content/uploads/Event-Header-Athletics-Default.jpg
END:VEVENT
BEGIN:VEVENT
DTSTART;TZID=America/New_York:20260410T160000
DTEND;TZID=America/New_York:20260410T180000
DTSTAMP:20260424T075913
CREATED:20251002T174442Z
LAST-MODIFIED:20260401T164147Z
UID:10002851-1775836800-1775844000@events.leeuniversity.edu
SUMMARY:Lee University Softball vs Valdosta State University
DESCRIPTION:Lee University Softball vs Valdosta State UniversityStreaming Video: https://flosports.link/3LjOsIP
URL:https://events.leeuniversity.edu/event/lee-university-softball-vs-valdosta-state-university/
LOCATION:Cleveland\, Tenn.\, Stanley Butler Softball Field
CATEGORIES:Athletics
ATTACH;FMTTYPE=image/jpeg:https://events.leeuniversity.edu/wp-content/uploads/Event-Header-Athletics-Default.jpg
END:VEVENT
BEGIN:VEVENT
DTSTART;TZID=America/New_York:20260321T150000
DTEND;TZID=America/New_York:20260321T170000
DTSTAMP:20260424T075913
CREATED:20251002T174435Z
LAST-MODIFIED:20260320T082707Z
UID:10002824-1774105200-1774112400@events.leeuniversity.edu
SUMMARY:Lee University Softball vs Christian Brothers University
DESCRIPTION:Lee University Softball vs Christian Brothers UniversityStreaming Video: https://flosports.link/4pMDmtQ
URL:https://events.leeuniversity.edu/event/lee-university-softball-vs-christian-brothers-university-2/
LOCATION:Cleveland\, Tenn.\, Stanley Butler Softball Field
CATEGORIES:Athletics
ATTACH;FMTTYPE=image/jpeg:https://events.leeuniversity.edu/wp-content/uploads/Event-Header-Athletics-Default.jpg
END:VEVENT
BEGIN:VEVENT
DTSTART;TZID=America/New_York:20260321T130000
DTEND;TZID=America/New_York:20260321T150000
DTSTAMP:20260424T075913
CREATED:20251002T174436Z
LAST-MODIFIED:20260320T082707Z
UID:10002826-1774098000-1774105200@events.leeuniversity.edu
SUMMARY:Lee University Softball vs Christian Brothers University
DESCRIPTION:Lee University Softball vs Christian Brothers UniversityStreaming Video: https://flosports.link/4pMDmtQ
URL:https://events.leeuniversity.edu/event/lee-university-softball-vs-christian-brothers-university-3/
LOCATION:Cleveland\, Tenn.\, Stanley Butler Softball Field
CATEGORIES:Athletics
ATTACH;FMTTYPE=image/jpeg:https://events.leeuniversity.edu/wp-content/uploads/Event-Header-Athletics-Default.jpg
END:VEVENT
BEGIN:VEVENT
DTSTART;TZID=America/New_York:20260320T170000
DTEND;TZID=America/New_York:20260320T190000
DTSTAMP:20260424T075913
CREATED:20251002T174435Z
LAST-MODIFIED:20260320T082707Z
UID:10002822-1774026000-1774033200@events.leeuniversity.edu
SUMMARY:Lee University Softball vs Christian Brothers University
DESCRIPTION:Lee University Softball vs Christian Brothers UniversityStreaming Video: https://flosports.link/45BQH15
URL:https://events.leeuniversity.edu/event/lee-university-softball-vs-christian-brothers-university/
LOCATION:Cleveland\, Tenn.\, Stanley Butler Softball Field
CATEGORIES:Athletics
ATTACH;FMTTYPE=image/jpeg:https://events.leeuniversity.edu/wp-content/uploads/Event-Header-Athletics-Default.jpg
END:VEVENT
BEGIN:VEVENT
DTSTART;TZID=America/New_York:20260304T170000
DTEND;TZID=America/New_York:20260304T190000
DTSTAMP:20260424T075913
CREATED:20251002T174425Z
LAST-MODIFIED:20260320T082702Z
UID:10002789-1772643600-1772650800@events.leeuniversity.edu
SUMMARY:Lee University Softball vs Carson-Newman University
DESCRIPTION:[W] Lee University Softball vs Carson-Newman UniversityW 7-6Streaming Video: https://flosports.link/4sIKHNB
URL:https://events.leeuniversity.edu/event/lee-university-softball-vs-carson-newman-university/
LOCATION:Cleveland\, Tenn.\, Stanley Butler Softball Field
CATEGORIES:Athletics
ATTACH;FMTTYPE=image/jpeg:https://events.leeuniversity.edu/wp-content/uploads/Event-Header-Athletics-Default.jpg
END:VEVENT
BEGIN:VEVENT
DTSTART;TZID=America/New_York:20260304T150000
DTEND;TZID=America/New_York:20260304T170000
DTSTAMP:20260424T075913
CREATED:20251002T174425Z
LAST-MODIFIED:20260320T082702Z
UID:10002790-1772636400-1772643600@events.leeuniversity.edu
SUMMARY:Lee University Softball vs Carson-Newman University
DESCRIPTION:[W] Lee University Softball vs Carson-Newman UniversityW 8-5Streaming Video: https://flosports.link/4sIKHNB
URL:https://events.leeuniversity.edu/event/lee-university-softball-vs-carson-newman-university-2/
LOCATION:Cleveland\, Tenn.\, Stanley Butler Softball Field
CATEGORIES:Athletics
ATTACH;FMTTYPE=image/jpeg:https://events.leeuniversity.edu/wp-content/uploads/Event-Header-Athletics-Default.jpg
END:VEVENT
BEGIN:VEVENT
DTSTART;TZID=America/New_York:20260228T160000
DTEND;TZID=America/New_York:20260228T180000
DTSTAMP:20260424T075913
CREATED:20251002T174423Z
LAST-MODIFIED:20260320T082701Z
UID:10002782-1772294400-1772301600@events.leeuniversity.edu
SUMMARY:Lee University Softball vs Auburn University Montgomery (Ala.)
DESCRIPTION:[W] Lee University Softball vs Auburn University Montgomery (Ala.)W 4-3 (9 Inn.)Streaming Video: https://flosports.link/4sLIkcS
URL:https://events.leeuniversity.edu/event/lee-university-softball-vs-auburn-university-montgomery-ala-3/
LOCATION:Cleveland\, Tenn.\, Stanley Butler Softball Field
CATEGORIES:Athletics
ATTACH;FMTTYPE=image/jpeg:https://events.leeuniversity.edu/wp-content/uploads/Event-Header-Athletics-Default.jpg
END:VEVENT
BEGIN:VEVENT
DTSTART;TZID=America/New_York:20260228T140000
DTEND;TZID=America/New_York:20260228T160000
DTSTAMP:20260424T075913
CREATED:20251002T174423Z
LAST-MODIFIED:20260320T082701Z
UID:10002781-1772287200-1772294400@events.leeuniversity.edu
SUMMARY:Lee University Softball vs Auburn University Montgomery (Ala.)
DESCRIPTION:[L] Lee University Softball vs Auburn University Montgomery (Ala.)L 4-13Streaming Video: https://flosports.link/4sLIkcS
URL:https://events.leeuniversity.edu/event/lee-university-softball-vs-auburn-university-montgomery-ala-2/
LOCATION:Cleveland\, Tenn.\, Stanley Butler Softball Field
CATEGORIES:Athletics
ATTACH;FMTTYPE=image/jpeg:https://events.leeuniversity.edu/wp-content/uploads/Event-Header-Athletics-Default.jpg
END:VEVENT
BEGIN:VEVENT
DTSTART;TZID=America/New_York:20260227T160000
DTEND;TZID=America/New_York:20260227T180000
DTSTAMP:20260424T075913
CREATED:20251002T174422Z
LAST-MODIFIED:20260320T082701Z
UID:10002778-1772208000-1772215200@events.leeuniversity.edu
SUMMARY:Lee University Softball vs Auburn University Montgomery (Ala.)
DESCRIPTION:[L] Lee University Softball vs Auburn University Montgomery (Ala.)L 5-9Streaming Video: https://flosports.link/4aZRa0r
URL:https://events.leeuniversity.edu/event/lee-university-softball-vs-auburn-university-montgomery-ala/
LOCATION:Cleveland\, Tenn.\, Stanley Butler Softball Field
CATEGORIES:Athletics
ATTACH;FMTTYPE=image/jpeg:https://events.leeuniversity.edu/wp-content/uploads/Event-Header-Athletics-Default.jpg
END:VEVENT
BEGIN:VEVENT
DTSTART;TZID=America/New_York:20250427T130000
DTEND;TZID=America/New_York:20250427T150000
DTSTAMP:20260424T075913
CREATED:20250425T125044Z
LAST-MODIFIED:20250427T151227Z
UID:10000472-1745758800-1745766000@events.leeuniversity.edu
SUMMARY:Lee University Softball vs Trevecca Nazarene University
DESCRIPTION:Lee University Softball vs Trevecca Nazarene UniversityStreaming Video: https://www.flocollege.com/live/150838
URL:https://events.leeuniversity.edu/event/lee-university-softball-vs-trevecca-nazarene-university-3/
LOCATION:Cleveland\, Tenn.\, Stanley Butler Softball Field
CATEGORIES:Athletics
ATTACH;FMTTYPE=image/jpeg:https://events.leeuniversity.edu/wp-content/uploads/Event-Header-Athletics-Default.jpg
END:VEVENT
BEGIN:VEVENT
DTSTART;TZID=America/New_York:20250426T160000
DTEND;TZID=America/New_York:20250426T180000
DTSTAMP:20260424T075913
CREATED:20250425T125044Z
LAST-MODIFIED:20250426T151139Z
UID:10000470-1745683200-1745690400@events.leeuniversity.edu
SUMMARY:Lee University Softball vs Trevecca Nazarene University
DESCRIPTION:Lee University Softball vs Trevecca Nazarene UniversityStreaming Video: https://www.flocollege.com/live/150806
URL:https://events.leeuniversity.edu/event/lee-university-softball-vs-trevecca-nazarene-university-2/
LOCATION:Cleveland\, Tenn.\, Stanley Butler Softball Field
CATEGORIES:Athletics
ATTACH;FMTTYPE=image/jpeg:https://events.leeuniversity.edu/wp-content/uploads/Event-Header-Athletics-Default.jpg
END:VEVENT
BEGIN:VEVENT
DTSTART;TZID=America/New_York:20250426T140000
DTEND;TZID=America/New_York:20250426T160000
DTSTAMP:20260424T075913
CREATED:20250425T125044Z
LAST-MODIFIED:20250426T151139Z
UID:10000469-1745676000-1745683200@events.leeuniversity.edu
SUMMARY:Lee University Softball vs Trevecca Nazarene University
DESCRIPTION:Lee University Softball vs Trevecca Nazarene UniversityStreaming Video: https://www.flocollege.com/live/150806
URL:https://events.leeuniversity.edu/event/lee-university-softball-vs-trevecca-nazarene-university/
LOCATION:Cleveland\, Tenn.\, Stanley Butler Softball Field
CATEGORIES:Athletics
ATTACH;FMTTYPE=image/jpeg:https://events.leeuniversity.edu/wp-content/uploads/Event-Header-Athletics-Default.jpg
END:VEVENT
END:VCALENDAR