BEGIN:VCALENDAR
VERSION:2.0
PRODID:-//Lee University Events - ECPv6.15.17.1//NONSGML v1.0//EN
CALSCALE:GREGORIAN
METHOD:PUBLISH
X-ORIGINAL-URL:https://events.leeuniversity.edu
X-WR-CALDESC:Events for Lee University Events
REFRESH-INTERVAL;VALUE=DURATION:PT1H
X-Robots-Tag:noindex
X-PUBLISHED-TTL:PT1H
BEGIN:VTIMEZONE
TZID:America/New_York
BEGIN:DAYLIGHT
TZOFFSETFROM:-0500
TZOFFSETTO:-0400
TZNAME:EDT
DTSTART:20240310T070000
END:DAYLIGHT
BEGIN:STANDARD
TZOFFSETFROM:-0400
TZOFFSETTO:-0500
TZNAME:EST
DTSTART:20241103T060000
END:STANDARD
BEGIN:DAYLIGHT
TZOFFSETFROM:-0500
TZOFFSETTO:-0400
TZNAME:EDT
DTSTART:20250309T070000
END:DAYLIGHT
BEGIN:STANDARD
TZOFFSETFROM:-0400
TZOFFSETTO:-0500
TZNAME:EST
DTSTART:20251102T060000
END:STANDARD
BEGIN:DAYLIGHT
TZOFFSETFROM:-0500
TZOFFSETTO:-0400
TZNAME:EDT
DTSTART:20260308T070000
END:DAYLIGHT
BEGIN:STANDARD
TZOFFSETFROM:-0400
TZOFFSETTO:-0500
TZNAME:EST
DTSTART:20261101T060000
END:STANDARD
END:VTIMEZONE
BEGIN:VEVENT
DTSTART;TZID=America/New_York:20251025T103000
DTEND;TZID=America/New_York:20251025T150000
DTSTAMP:20260424T062955
CREATED:20251015T192533Z
LAST-MODIFIED:20251015T192533Z
UID:10002902-1761388200-1761404400@events.leeuniversity.edu
SUMMARY:Men's and Women's Rugby Double-Header
DESCRIPTION:Women’s kickoff is at 10:30 am\, and men’s kickoff is at 12:30 pm.
URL:https://events.leeuniversity.edu/event/mens-and-womens-rugby-double-header/
LOCATION:Carroll Court Rugby Field\, 1765-1769 Greenwood Avenue NE\, Cleveland\, 37311\, United States
CATEGORIES:Campus Recreation
ATTACH;FMTTYPE=image/png:https://events.leeuniversity.edu/wp-content/uploads/Lee-U-web-thumbnail-2.png
ORGANIZER;CN="Campus Rec":MAILTO:campusrecreation@leeuniversity.edu
END:VEVENT
END:VCALENDAR