BEGIN:VCALENDAR
VERSION:2.0
PRODID:-//Lee University Events - ECPv6.15.20//NONSGML v1.0//EN
CALSCALE:GREGORIAN
METHOD:PUBLISH
X-WR-CALNAME:Lee University Events
X-ORIGINAL-URL:https://events.leeuniversity.edu
X-WR-CALDESC:Events for Lee University Events
REFRESH-INTERVAL;VALUE=DURATION:PT1H
X-Robots-Tag:noindex
X-PUBLISHED-TTL:PT1H
BEGIN:VTIMEZONE
TZID:America/New_York
BEGIN:DAYLIGHT
TZOFFSETFROM:-0500
TZOFFSETTO:-0400
TZNAME:EDT
DTSTART:20240310T070000
END:DAYLIGHT
BEGIN:STANDARD
TZOFFSETFROM:-0400
TZOFFSETTO:-0500
TZNAME:EST
DTSTART:20241103T060000
END:STANDARD
BEGIN:DAYLIGHT
TZOFFSETFROM:-0500
TZOFFSETTO:-0400
TZNAME:EDT
DTSTART:20250309T070000
END:DAYLIGHT
BEGIN:STANDARD
TZOFFSETFROM:-0400
TZOFFSETTO:-0500
TZNAME:EST
DTSTART:20251102T060000
END:STANDARD
BEGIN:DAYLIGHT
TZOFFSETFROM:-0500
TZOFFSETTO:-0400
TZNAME:EDT
DTSTART:20260308T070000
END:DAYLIGHT
BEGIN:STANDARD
TZOFFSETFROM:-0400
TZOFFSETTO:-0500
TZNAME:EST
DTSTART:20261101T060000
END:STANDARD
END:VTIMEZONE
BEGIN:VEVENT
DTSTART;TZID=America/New_York:20250317T183000
DTEND;TZID=America/New_York:20250317T193000
DTSTAMP:20260424T121720
CREATED:20250204T210256Z
LAST-MODIFIED:20250317T180400Z
UID:10000291-1742236200-1742239800@events.leeuniversity.edu
SUMMARY:Junior Recital: Arami Andersen\, violin & Paige Parmelee\, soprano
DESCRIPTION:3/17 – Junior Recital: Arami Andersen\, violin & Paige Parmelee\, soprano; 6:30pm\, Squires
URL:https://events.leeuniversity.edu/event/junior-recital-arami-andersen-violin-paige-parmelee-soprano/
LOCATION:HUM 108 Squires Recital Hall
CATEGORIES:Music
ATTACH;FMTTYPE=image/jpeg:https://events.leeuniversity.edu/wp-content/uploads/Stock-Image-for-Website-9.jpg
ORGANIZER;CN="LEEU":MAILTO:info@leeuniversity.edu
END:VEVENT
BEGIN:VEVENT
DTSTART;VALUE=DATE:20250317
DTEND;VALUE=DATE:20250318
DTSTAMP:20260424T121720
CREATED:20231101T185551Z
LAST-MODIFIED:20231101T185551Z
UID:10000202-1742169600-1742255999@events.leeuniversity.edu
SUMMARY:Service Hours & Reflections due for seniors
DESCRIPTION:Service Hours & Reflections due for seniors
URL:https://events.leeuniversity.edu/event/service-hours-reflections-due-for-seniors-4/
CATEGORIES:Academic
ORGANIZER;CN="LEEU":MAILTO:info@leeuniversity.edu
END:VEVENT
BEGIN:VEVENT
DTSTART;VALUE=DATE:20250317
DTEND;VALUE=DATE:20250318
DTSTAMP:20260424T121720
CREATED:20231101T185429Z
LAST-MODIFIED:20231101T185429Z
UID:10000201-1742169600-1742255999@events.leeuniversity.edu
SUMMARY:Classes Resume
DESCRIPTION:Classes Resume
URL:https://events.leeuniversity.edu/event/classes-resume-5/
CATEGORIES:Academic
ORGANIZER;CN="LEEU":MAILTO:info@leeuniversity.edu
END:VEVENT
BEGIN:VEVENT
DTSTART;VALUE=DATE:20250314
DTEND;VALUE=DATE:20250315
DTSTAMP:20260424T121720
CREATED:20231101T185349Z
LAST-MODIFIED:20231101T185349Z
UID:10000200-1741910400-1741996799@events.leeuniversity.edu
SUMMARY:Offices Closed
DESCRIPTION:Offices Closed
URL:https://events.leeuniversity.edu/event/offices-closed/
CATEGORIES:Academic
ORGANIZER;CN="LEEU":MAILTO:info@leeuniversity.edu
END:VEVENT
BEGIN:VEVENT
DTSTART;VALUE=DATE:20250310
DTEND;VALUE=DATE:20250315
DTSTAMP:20260424T121720
CREATED:20231101T185307Z
LAST-MODIFIED:20231101T190019Z
UID:10000199-1741564800-1741996799@events.leeuniversity.edu
SUMMARY:No Classes
DESCRIPTION:No Classes
URL:https://events.leeuniversity.edu/event/no-classes-2/
CATEGORIES:Academic
ORGANIZER;CN="LEEU":MAILTO:info@leeuniversity.edu
END:VEVENT
BEGIN:VEVENT
DTSTART;VALUE=DATE:20250310
DTEND;VALUE=DATE:20250315
DTSTAMP:20260424T121720
CREATED:20231101T185211Z
LAST-MODIFIED:20231101T185211Z
UID:10000198-1741564800-1741996799@events.leeuniversity.edu
SUMMARY:Spring Break
DESCRIPTION:Spring Break
URL:https://events.leeuniversity.edu/event/spring-break/
CATEGORIES:Academic
ORGANIZER;CN="LEEU":MAILTO:info@leeuniversity.edu
END:VEVENT
BEGIN:VEVENT
DTSTART;TZID=America/New_York:20250307T180000
DTEND;TZID=America/New_York:20250307T190000
DTSTAMP:20260424T121720
CREATED:20250204T210150Z
LAST-MODIFIED:20250204T210150Z
UID:10000290-1741370400-1741374000@events.leeuniversity.edu
SUMMARY:Senior Recital: Daniel Puckett\, tenor
DESCRIPTION:3/7 – Senior Recital: Daniel Puckett\, tenor; 6:00pm\, Squires
URL:https://events.leeuniversity.edu/event/senior-recital-daniel-puckett-tenor/
LOCATION:HUM 108 Squires Recital Hall
CATEGORIES:Music
ATTACH;FMTTYPE=image/jpeg:https://events.leeuniversity.edu/wp-content/uploads/Stock-Image-for-Website-8.jpg
ORGANIZER;CN="LEEU":MAILTO:info@leeuniversity.edu
END:VEVENT
BEGIN:VEVENT
DTSTART;TZID=America/New_York:20250306T193000
DTEND;TZID=America/New_York:20250306T210000
DTSTAMP:20260424T121720
CREATED:20250204T210029Z
LAST-MODIFIED:20250204T210029Z
UID:10000289-1741289400-1741294800@events.leeuniversity.edu
SUMMARY:Concert: Choral Union & Men's Choir
DESCRIPTION:3/6 – Concert: Choral Union & Men’s Choir; 7:30pm\, Pangle
URL:https://events.leeuniversity.edu/event/concert-choral-union-mens-choir/
LOCATION:Pangle Hall
CATEGORIES:Music
ATTACH;FMTTYPE=image/jpeg:https://events.leeuniversity.edu/wp-content/uploads/Stock-Image-for-Website-7.jpg
ORGANIZER;CN="LEEU":MAILTO:info@leeuniversity.edu
END:VEVENT
BEGIN:VEVENT
DTSTART;TZID=America/New_York:20250306T104500
DTEND;TZID=America/New_York:20250306T113000
DTSTAMP:20260424T121720
CREATED:20250304T164240Z
LAST-MODIFIED:20250304T171111Z
UID:10000441-1741257900-1741260600@events.leeuniversity.edu
SUMMARY:Alternative Chapel
DESCRIPTION:Alternative Chapel
URL:https://events.leeuniversity.edu/event/alternative-chapel/
LOCATION:Dixon Center\, 1053 Church St\, Cleveland\, TN\, 37311\, United States
CATEGORIES:Chapel
ATTACH;FMTTYPE=image/png:https://events.leeuniversity.edu/wp-content/uploads/Alternative-Chapel.png
ORGANIZER;CN="LEEU":MAILTO:info@leeuniversity.edu
END:VEVENT
BEGIN:VEVENT
DTSTART;TZID=America/New_York:20250306T104500
DTEND;TZID=America/New_York:20250306T113000
DTSTAMP:20260424T121720
CREATED:20250304T163532Z
LAST-MODIFIED:20250305T131258Z
UID:10000440-1741257900-1741260600@events.leeuniversity.edu
SUMMARY:IWW Chapel (Becky Burdashaw)
DESCRIPTION:Guest speaker: Becky Burdashaw
URL:https://events.leeuniversity.edu/event/becky-burdashaw-iww-chapel/
LOCATION:Conn Center\, 150 11th St NE\, Cleveland\, TN\, 37312\, United States
CATEGORIES:Academic,Chapel
ATTACH;FMTTYPE=image/png:https://events.leeuniversity.edu/wp-content/uploads/iww-chapel-1.png
ORGANIZER;CN="LEEU":MAILTO:info@leeuniversity.edu
END:VEVENT
BEGIN:VEVENT
DTSTART;TZID=America/New_York:20250306T104500
DTEND;TZID=America/New_York:20250306T113000
DTSTAMP:20260424T121720
CREATED:20250227T180241Z
LAST-MODIFIED:20250227T180241Z
UID:10000438-1741257900-1741260600@events.leeuniversity.edu
SUMMARY:International Women's Week Conn Center Chapel Service
DESCRIPTION:Thursday\, March 6\, 10:45 to 11:30 am\nSpeaker Becky Burdashaw
URL:https://events.leeuniversity.edu/event/international-womens-week-conn-center-chapel-service/
CATEGORIES:Upcoming
ATTACH;FMTTYPE=image/jpeg:https://events.leeuniversity.edu/wp-content/uploads/Womens-Week.jpg
ORGANIZER;CN="LEEU":MAILTO:info@leeuniversity.edu
END:VEVENT
BEGIN:VEVENT
DTSTART;TZID=America/New_York:20250305T161500
DTEND;TZID=America/New_York:20250305T170000
DTSTAMP:20260424T121720
CREATED:20240404T190232Z
LAST-MODIFIED:20240819T200350Z
UID:10000160-1741191300-1741194000@events.leeuniversity.edu
SUMMARY:Staff Meeting
DESCRIPTION:Staff Meeting
URL:https://events.leeuniversity.edu/event/staff-meeting-7/
LOCATION:Dixon Center\, 1053 Church St\, Cleveland\, TN\, 37311\, United States
CATEGORIES:Academic
ORGANIZER;CN="LEEU":MAILTO:info@leeuniversity.edu
END:VEVENT
BEGIN:VEVENT
DTSTART;TZID=America/New_York:20250305T122000
DTEND;TZID=America/New_York:20250305T153500
DTSTAMP:20260424T121720
CREATED:20250227T180106Z
LAST-MODIFIED:20250227T180106Z
UID:10000437-1741177200-1741188900@events.leeuniversity.edu
SUMMARY:International Women's Week Student Poster Session
DESCRIPTION:Wednesday\, March 5\, 12:20 to 3:35 pm in the SMC Great Room
URL:https://events.leeuniversity.edu/event/international-womens-week-student-poster-session/
CATEGORIES:Upcoming
ATTACH;FMTTYPE=image/jpeg:https://events.leeuniversity.edu/wp-content/uploads/Womens-Week.jpg
ORGANIZER;CN="LEEU":MAILTO:info@leeuniversity.edu
END:VEVENT
BEGIN:VEVENT
DTSTART;TZID=America/New_York:20250305T121500
DTEND;TZID=America/New_York:20250305T133000
DTSTAMP:20260424T121720
CREATED:20250304T161616Z
LAST-MODIFIED:20250304T164305Z
UID:10000439-1741176900-1741181400@events.leeuniversity.edu
SUMMARY:Ash Wednesday Service
DESCRIPTION:Ash Wednesday Service at the Chapel
URL:https://events.leeuniversity.edu/event/ash-wednesday-service/
LOCATION:The Chapel
CATEGORIES:Academic,Chapel
ATTACH;FMTTYPE=image/png:https://events.leeuniversity.edu/wp-content/uploads/Ash-Wednesday-March-2025.png
ORGANIZER;CN="LEEU":MAILTO:info@leeuniversity.edu
END:VEVENT
BEGIN:VEVENT
DTSTART;TZID=America/New_York:20250304T193000
DTEND;TZID=America/New_York:20250304T203000
DTSTAMP:20260424T121720
CREATED:20240722T190826Z
LAST-MODIFIED:20240722T190826Z
UID:10000260-1741116600-1741120200@events.leeuniversity.edu
SUMMARY:Presidential Concert Series: Goitse
DESCRIPTION:The popular and multi-award winning quintet Goitse have become a leader of the new generation of traditional Irish ensembles. Named Live Ireland’s “Traditional Group of the Year” Goitse makes what Irish Music Magazine calls “Music that’s brimming with energy and creative zeal.” \nAdditional funding for this concert was generously provided by the Tennessee Arts Commission. \nFor ticket information\, call 423-614-8343 or visit eventbrite.com. • Tickets: Adults $15 / Seniors (65+) & children (under 18) $5 • The box office is open on weekdays 3-6 pm. • Tickets will be available one week prior to the event.
URL:https://events.leeuniversity.edu/event/presidential-concert-series-goitse/
LOCATION:Pangle Hall
CATEGORIES:Music
ATTACH;FMTTYPE=image/jpeg:https://events.leeuniversity.edu/wp-content/uploads/Goitse.jpg
ORGANIZER;CN="LEEU":MAILTO:info@leeuniversity.edu
END:VEVENT
BEGIN:VEVENT
DTSTART;TZID=America/New_York:20250304T190000
DTEND;TZID=America/New_York:20250304T203000
DTSTAMP:20260424T121720
CREATED:20250227T175922Z
LAST-MODIFIED:20250227T175922Z
UID:10000436-1741114800-1741120200@events.leeuniversity.edu
SUMMARY:Latte in the Library
DESCRIPTION:Tuesday\, March 4\, 7:00 to 8:30 pm in Squires Library\nSpeaker Dr. Samantha Logan Spinks
URL:https://events.leeuniversity.edu/event/latte-in-the-library/
CATEGORIES:Upcoming
ATTACH;FMTTYPE=image/jpeg:https://events.leeuniversity.edu/wp-content/uploads/Womens-Week.jpg
ORGANIZER;CN="LEEU":MAILTO:info@leeuniversity.edu
END:VEVENT
BEGIN:VEVENT
DTSTART;TZID=America/New_York:20250304T133000
DTEND;TZID=America/New_York:20250304T153000
DTSTAMP:20260424T121720
CREATED:20250227T175757Z
LAST-MODIFIED:20250227T175757Z
UID:10000435-1741095000-1741102200@events.leeuniversity.edu
SUMMARY:Nevertheless\, We Obey Panel
DESCRIPTION:Panelists include Antoinette Miles\, Associate Pastor Ginger Robinson\, and Dr. Miriam Figueroa.\nPresented by the School of Theology and Ministry\nTuesday\, March 4\, 1:30 pm to 3:30 pm in the STM Reading Room
URL:https://events.leeuniversity.edu/event/nevertheless-we-obey-panel/
CATEGORIES:Upcoming
ATTACH;FMTTYPE=image/jpeg:https://events.leeuniversity.edu/wp-content/uploads/Womens-Week.jpg
ORGANIZER;CN="LEEU":MAILTO:info@leeuniversity.edu
END:VEVENT
BEGIN:VEVENT
DTSTART;TZID=America/New_York:20250304T104500
DTEND;TZID=America/New_York:20250304T113000
DTSTAMP:20260424T121720
CREATED:20250305T131205Z
LAST-MODIFIED:20250305T131205Z
UID:10000448-1741085100-1741087800@events.leeuniversity.edu
SUMMARY:IWW Chapel (Sherry Kasper)
DESCRIPTION:Guest Speaker: Sherry Kasper
URL:https://events.leeuniversity.edu/event/iww-chapel-sherry-kasper/
LOCATION:The Chapel
CATEGORIES:Chapel
ATTACH;FMTTYPE=image/png:https://events.leeuniversity.edu/wp-content/uploads/IWW-Chapel-Sherry.png
ORGANIZER;CN="LEEU":MAILTO:info@leeuniversity.edu
END:VEVENT
BEGIN:VEVENT
DTSTART;TZID=America/New_York:20250304T104500
DTEND;TZID=America/New_York:20250304T113000
DTSTAMP:20260424T121720
CREATED:20250305T130748Z
LAST-MODIFIED:20250305T130804Z
UID:10000447-1741085100-1741087800@events.leeuniversity.edu
SUMMARY:Chapel
DESCRIPTION:Speaker: Skip Jenkins
URL:https://events.leeuniversity.edu/event/chapel-5/
LOCATION:Conn Center\, 150 11th St NE\, Cleveland\, TN\, 37312\, United States
CATEGORIES:Chapel
ATTACH;FMTTYPE=image/png:https://events.leeuniversity.edu/wp-content/uploads/Chapel-Conn-Center-4.png
ORGANIZER;CN="LEEU":MAILTO:info@leeuniversity.edu
END:VEVENT
BEGIN:VEVENT
DTSTART;TZID=America/New_York:20250304T104500
DTEND;TZID=America/New_York:20250304T113000
DTSTAMP:20260424T121720
CREATED:20250227T175613Z
LAST-MODIFIED:20250227T175613Z
UID:10000434-1741085100-1741087800@events.leeuniversity.edu
SUMMARY:International Women's Week Stone Chapel Service
DESCRIPTION:Tuesday\, March 4\, 10:45 am to 11:30 am\nSpeaker Dr. Sherry Kasper\nSpecial music by Ladies of Lee under the direction of Cameron Weatherford and with special artists Joanna Pepple and Courtney Delay.
URL:https://events.leeuniversity.edu/event/international-womens-week-stone-chapel-service/
CATEGORIES:Upcoming
ATTACH;FMTTYPE=image/jpeg:https://events.leeuniversity.edu/wp-content/uploads/Womens-Week.jpg
ORGANIZER;CN="LEEU":MAILTO:info@leeuniversity.edu
END:VEVENT
BEGIN:VEVENT
DTSTART;VALUE=DATE:20250304
DTEND;VALUE=DATE:20250305
DTSTAMP:20260424T121720
CREATED:20231101T185119Z
LAST-MODIFIED:20231101T185119Z
UID:10000197-1741046400-1741132799@events.leeuniversity.edu
SUMMARY:Faculty Meeting
DESCRIPTION:Faculty Meeting
URL:https://events.leeuniversity.edu/event/faculty-meeting-6/
CATEGORIES:Academic
ORGANIZER;CN="LEEU":MAILTO:info@leeuniversity.edu
END:VEVENT
BEGIN:VEVENT
DTSTART;TZID=America/New_York:20250303T193000
DTEND;TZID=America/New_York:20250303T203000
DTSTAMP:20260424T121720
CREATED:20240716T194217Z
LAST-MODIFIED:20240716T194217Z
UID:10000167-1741030200-1741033800@events.leeuniversity.edu
SUMMARY:Concert: Symphonic Band
DESCRIPTION:3/3 – Concert: Symphonic Band; 7:30pm\, Conn Center
URL:https://events.leeuniversity.edu/event/concert-symphonic-band/
LOCATION:Conn Center\, 150 11th St NE\, Cleveland\, TN\, 37312\, United States
CATEGORIES:Music
ATTACH;FMTTYPE=image/jpeg:https://events.leeuniversity.edu/wp-content/uploads/Website-Temp1-57.jpg
ORGANIZER;CN="LEEU":MAILTO:info@leeuniversity.edu
END:VEVENT
BEGIN:VEVENT
DTSTART;TZID=America/New_York:20250303T190000
DTEND;TZID=America/New_York:20250303T203000
DTSTAMP:20260424T121720
CREATED:20250227T175311Z
LAST-MODIFIED:20250227T175311Z
UID:10000432-1741028400-1741033800@events.leeuniversity.edu
SUMMARY:A Mind of Her Own: An Interdisciplinary Women Scholars Panel
DESCRIPTION:Presenters include Drs. Sherry Kasper\, Susan Ashcraft\, and Amy Moody\, and Professor Jodie Augustine\nMonday\, March 3\, 7:00 – 8:30 pm in the Edna Minor Conn Lecture Hall\nFree Pizza for students
URL:https://events.leeuniversity.edu/event/a-mind-of-her-own-an-interdisciplinary-women-scholars-panel/
CATEGORIES:Upcoming
ATTACH;FMTTYPE=image/jpeg:https://events.leeuniversity.edu/wp-content/uploads/Womens-Week.jpg
ORGANIZER;CN="LEEU":MAILTO:info@leeuniversity.edu
END:VEVENT
BEGIN:VEVENT
DTSTART;TZID=America/New_York:20250303T122000
DTEND;TZID=America/New_York:20250303T131000
DTSTAMP:20260424T121720
CREATED:20250227T163834Z
LAST-MODIFIED:20250227T180553Z
UID:10000431-1741004400-1741007400@events.leeuniversity.edu
SUMMARY:Women in Business Panel Luncheon
DESCRIPTION:Monday\, March 3\, 12:20 pm – 1:10 pm in School of Business Lobby
URL:https://events.leeuniversity.edu/event/women-in-business-panel-luncheon/
CATEGORIES:Upcoming
ATTACH;FMTTYPE=image/jpeg:https://events.leeuniversity.edu/wp-content/uploads/Womens-Week.jpg
ORGANIZER;CN="LEEU":MAILTO:info@leeuniversity.edu
END:VEVENT
BEGIN:VEVENT
DTSTART;TZID=America/New_York:20250302T150000
DTEND;TZID=America/New_York:20250302T163000
DTSTAMP:20260424T121720
CREATED:20250204T205617Z
LAST-MODIFIED:20250204T205617Z
UID:10000288-1740927600-1740933000@events.leeuniversity.edu
SUMMARY:Opera Theater Production: Down in the Valley & Trouble in Tahiti
DESCRIPTION:Opera Theater Production: Down in the Valley & Trouble in Tahiti
URL:https://events.leeuniversity.edu/event/opera-theater-production-down-in-the-valley-trouble-in-tahiti-3/
LOCATION:Dixon Center\, 1053 Church St\, Cleveland\, TN\, 37311\, United States
CATEGORIES:Music
ATTACH;FMTTYPE=image/jpeg:https://events.leeuniversity.edu/wp-content/uploads/Stock-Image-for-Website-6.jpg
ORGANIZER;CN="LEEU":MAILTO:info@leeuniversity.edu
END:VEVENT
BEGIN:VEVENT
DTSTART;TZID=America/New_York:20250301T193000
DTEND;TZID=America/New_York:20250301T210000
DTSTAMP:20260424T121720
CREATED:20250204T205449Z
LAST-MODIFIED:20250204T205449Z
UID:10000287-1740857400-1740862800@events.leeuniversity.edu
SUMMARY:Opera Theater Production: Down in the Valley & Trouble in Tahiti
DESCRIPTION:Opera Theater Production: Down in the Valley & Trouble in Tahiti
URL:https://events.leeuniversity.edu/event/opera-theater-production-down-in-the-valley-trouble-in-tahiti-2/
LOCATION:Dixon Center\, 1053 Church St\, Cleveland\, TN\, 37311\, United States
CATEGORIES:Music
ATTACH;FMTTYPE=image/jpeg:https://events.leeuniversity.edu/wp-content/uploads/Stock-Image-for-Website-5.jpg
ORGANIZER;CN="LEEU":MAILTO:info@leeuniversity.edu
END:VEVENT
BEGIN:VEVENT
DTSTART;VALUE=DATE:20250301
DTEND;VALUE=DATE:20250302
DTSTAMP:20260424T121720
CREATED:20240717T191100Z
LAST-MODIFIED:20250225T190232Z
UID:10000256-1740787200-1740873599@events.leeuniversity.edu
SUMMARY:School of Music Audition Day
DESCRIPTION:School of Music Audition Day – More information at https://www.leeuniversity.edu/academics/music/audition/
URL:https://events.leeuniversity.edu/event/school-of-music-audition-day-4/
LOCATION:School of Music
CATEGORIES:Music
ATTACH;FMTTYPE=image/png:https://events.leeuniversity.edu/wp-content/uploads/5-Lee-U-Auditions-Promo-Edited-1-4.png
ORGANIZER;CN="LEEU":MAILTO:info@leeuniversity.edu
END:VEVENT
BEGIN:VEVENT
DTSTART;VALUE=DATE:20250301
DTEND;VALUE=DATE:20250302
DTSTAMP:20260424T121720
CREATED:20231101T185925Z
LAST-MODIFIED:20240118T173517Z
UID:10000206-1740787200-1740873599@events.leeuniversity.edu
SUMMARY:Deadline to apply to graduate in the spring 2025
DESCRIPTION:Deadline to apply to graduate in the spring 2025
URL:https://events.leeuniversity.edu/event/deadline-to-apply-for-spring-graduation/
CATEGORIES:Academic
ATTACH;FMTTYPE=image/jpeg:https://events.leeuniversity.edu/wp-content/uploads/event-header-image5-hmIpfy.tmp_.jpg
ORGANIZER;CN="LEEU":MAILTO:info@leeuniversity.edu
END:VEVENT
BEGIN:VEVENT
DTSTART;VALUE=DATE:20250301
DTEND;VALUE=DATE:20250302
DTSTAMP:20260424T121720
CREATED:20231101T185811Z
LAST-MODIFIED:20231101T185811Z
UID:10000205-1740787200-1740873599@events.leeuniversity.edu
SUMMARY:Deadline to apply for student teaching in the fall
DESCRIPTION:Deadline to apply for student teaching in the fall
URL:https://events.leeuniversity.edu/event/deadline-to-apply-for-student-teaching-in-the-fall/
CATEGORIES:Academic
ORGANIZER;CN="LEEU":MAILTO:info@leeuniversity.edu
END:VEVENT
BEGIN:VEVENT
DTSTART;TZID=America/New_York:20250228T193000
DTEND;TZID=America/New_York:20250228T210000
DTSTAMP:20260424T121720
CREATED:20250204T205358Z
LAST-MODIFIED:20250204T205358Z
UID:10000286-1740771000-1740776400@events.leeuniversity.edu
SUMMARY:Opera Theater Production: Down in the Valley & Trouble in Tahiti
DESCRIPTION:Opera Theater Production: Down in the Valley & Trouble in Tahiti
URL:https://events.leeuniversity.edu/event/opera-theater-production-down-in-the-valley-trouble-in-tahiti/
LOCATION:Dixon Center\, 1053 Church St\, Cleveland\, TN\, 37311\, United States
CATEGORIES:Music
ATTACH;FMTTYPE=image/jpeg:https://events.leeuniversity.edu/wp-content/uploads/Stock-Image-for-Website-4.jpg
ORGANIZER;CN="LEEU":MAILTO:info@leeuniversity.edu
END:VEVENT
END:VCALENDAR