BEGIN:VCALENDAR
VERSION:2.0
PRODID:-//Lee University Events - ECPv6.15.17.1//NONSGML v1.0//EN
CALSCALE:GREGORIAN
METHOD:PUBLISH
X-WR-CALNAME:Lee University Events
X-ORIGINAL-URL:https://events.leeuniversity.edu
X-WR-CALDESC:Events for Lee University Events
REFRESH-INTERVAL;VALUE=DURATION:PT1H
X-Robots-Tag:noindex
X-PUBLISHED-TTL:PT1H
BEGIN:VTIMEZONE
TZID:America/New_York
BEGIN:DAYLIGHT
TZOFFSETFROM:-0500
TZOFFSETTO:-0400
TZNAME:EDT
DTSTART:20240310T070000
END:DAYLIGHT
BEGIN:STANDARD
TZOFFSETFROM:-0400
TZOFFSETTO:-0500
TZNAME:EST
DTSTART:20241103T060000
END:STANDARD
BEGIN:DAYLIGHT
TZOFFSETFROM:-0500
TZOFFSETTO:-0400
TZNAME:EDT
DTSTART:20250309T070000
END:DAYLIGHT
BEGIN:STANDARD
TZOFFSETFROM:-0400
TZOFFSETTO:-0500
TZNAME:EST
DTSTART:20251102T060000
END:STANDARD
BEGIN:DAYLIGHT
TZOFFSETFROM:-0500
TZOFFSETTO:-0400
TZNAME:EDT
DTSTART:20260308T070000
END:DAYLIGHT
BEGIN:STANDARD
TZOFFSETFROM:-0400
TZOFFSETTO:-0500
TZNAME:EST
DTSTART:20261101T060000
END:STANDARD
END:VTIMEZONE
BEGIN:VEVENT
DTSTART;TZID=America/New_York:20251021T104500
DTEND;TZID=America/New_York:20251021T104500
DTSTAMP:20260422T120924
CREATED:20250925T163728Z
LAST-MODIFIED:20251009T231057Z
UID:10000654-1761043500-1761043500@events.leeuniversity.edu
SUMMARY:Chapel-Missions Week: Coleman Bailey
DESCRIPTION:
URL:https://events.leeuniversity.edu/event/missions-week-coleman-bailey/
LOCATION:Conn Center\, 150 11th St NE\, Cleveland\, TN\, 37312\, United States
CATEGORIES:Chapel
ATTACH;FMTTYPE=image/jpeg:https://events.leeuniversity.edu/wp-content/uploads/EVENTS-CONN-CENTER.jpg
ORGANIZER;CN="LEEU":MAILTO:info@leeuniversity.edu
END:VEVENT
BEGIN:VEVENT
DTSTART;TZID=America/New_York:20251021T170000
DTEND;TZID=America/New_York:20251021T190000
DTSTAMP:20260422T120924
CREATED:20250521T155740Z
LAST-MODIFIED:20251121T234145Z
UID:10000547-1761066000-1761073200@events.leeuniversity.edu
SUMMARY:Lee University Volleyball at Union University (Tenn.)
DESCRIPTION:[W] Lee University Volleyball at Union University (Tenn.)W 3-1 (21-25\, 25-11\, 25-18\, 25-20)Streaming Video: https://flosports.link/4l5RiwC
URL:https://events.leeuniversity.edu/event/lee-university-volleyball-at-union-university-tenn/
LOCATION:Jackson\, Tenn.
CATEGORIES:Athletics
ATTACH;FMTTYPE=image/jpeg:https://events.leeuniversity.edu/wp-content/uploads/Event-Header-Athletics-Default.jpg
END:VEVENT
BEGIN:VEVENT
DTSTART;TZID=America/New_York:20251023T104500
DTEND;TZID=America/New_York:20251023T104500
DTSTAMP:20260422T120924
CREATED:20250925T163817Z
LAST-MODIFIED:20251009T231136Z
UID:10000655-1761216300-1761216300@events.leeuniversity.edu
SUMMARY:Chapel-Missions Week: Kyle Philippi
DESCRIPTION:
URL:https://events.leeuniversity.edu/event/missions-week-kyle-philippi/
LOCATION:Conn Center\, 150 11th St NE\, Cleveland\, TN\, 37312\, United States
CATEGORIES:Chapel
ATTACH;FMTTYPE=image/jpeg:https://events.leeuniversity.edu/wp-content/uploads/EVENTS-CONN-CENTER.jpg
ORGANIZER;CN="LEEU":MAILTO:info@leeuniversity.edu
END:VEVENT
BEGIN:VEVENT
DTSTART;TZID=America/New_York:20251024T130000
DTEND;TZID=America/New_York:20251024T150000
DTSTAMP:20260422T120924
CREATED:20250515T154255Z
LAST-MODIFIED:20251124T235711Z
UID:10000515-1761310800-1761318000@events.leeuniversity.edu
SUMMARY:Lee University Women's Soccer at Mississippi College
DESCRIPTION:[W] Lee University Women’s Soccer at Mississippi CollegeW 2-1Streaming Video: https://flosports.link/4mdSAqm
URL:https://events.leeuniversity.edu/event/lee-university-womens-soccer-at-mississippi-college/
LOCATION:Clinton\, Miss.
CATEGORIES:Athletics
ATTACH;FMTTYPE=image/jpeg:https://events.leeuniversity.edu/wp-content/uploads/Event-Header-Athletics-Default.jpg
END:VEVENT
BEGIN:VEVENT
DTSTART;TZID=America/New_York:20251024T153000
DTEND;TZID=America/New_York:20251024T173000
DTSTAMP:20260422T120924
CREATED:20250515T154255Z
LAST-MODIFIED:20251124T235712Z
UID:10000516-1761319800-1761327000@events.leeuniversity.edu
SUMMARY:Lee University Men's Soccer at Mississippi College
DESCRIPTION:[L] Lee University Men’s Soccer at Mississippi CollegeL 0-3Streaming Video: https://flosports.link/4ovU2Xl
URL:https://events.leeuniversity.edu/event/lee-university-mens-soccer-at-mississippi-college/
LOCATION:Clinton\, Miss.
CATEGORIES:Athletics
ATTACH;FMTTYPE=image/jpeg:https://events.leeuniversity.edu/wp-content/uploads/Event-Header-Athletics-Default.jpg
END:VEVENT
BEGIN:VEVENT
DTSTART;TZID=America/New_York:20251024T170000
DTEND;TZID=America/New_York:20251024T190000
DTSTAMP:20260422T120924
CREATED:20250521T155741Z
LAST-MODIFIED:20251124T235712Z
UID:10000548-1761325200-1761332400@events.leeuniversity.edu
SUMMARY:Lee University Volleyball vs University of Montevallo - Volley For A Cure
DESCRIPTION:[W] Lee University Volleyball vs University of Montevallo – Volley For A CureW 3-0 (25-15\, 25-20\, 25-19)Streaming Video: https://flosports.link/4mhSUUW
URL:https://events.leeuniversity.edu/event/lee-university-volleyball-vs-university-of-montevallo/
LOCATION:Cleveland\, Tenn.\, Paul Dana Walker Arena
CATEGORIES:Athletics
ATTACH;FMTTYPE=image/jpeg:https://events.leeuniversity.edu/wp-content/uploads/Event-Header-Athletics-Default.jpg
END:VEVENT
BEGIN:VEVENT
DTSTART;TZID=America/New_York:20251024T180000
DTEND;TZID=America/New_York:20251024T190000
DTSTAMP:20260422T120924
CREATED:20250708T184119Z
LAST-MODIFIED:20250708T184119Z
UID:10000585-1761328800-1761332400@events.leeuniversity.edu
SUMMARY:Senior Recital: Evan Kramer\, trombone
DESCRIPTION:10/24 – Senior Recital: Evan Kramer\, trombone; 6:00pm\, Squires
URL:https://events.leeuniversity.edu/event/senior-recital-evan-kramer-trombone/
LOCATION:HUM 108 Squires Recital Hall
CATEGORIES:Music
ATTACH;FMTTYPE=image/png:https://events.leeuniversity.edu/wp-content/uploads/Recitals-6.png
ORGANIZER;CN="LEEU":MAILTO:info@leeuniversity.edu
END:VEVENT
BEGIN:VEVENT
DTSTART;TZID=America/New_York:20251025T080000
DTEND;TZID=America/New_York:20251025T110000
DTSTAMP:20260422T120924
CREATED:20250616T164158Z
LAST-MODIFIED:20251125T235652Z
UID:10000562-1761379200-1761390000@events.leeuniversity.edu
SUMMARY:Lee University Women's Cross Country vs Gulf South Conference Championship (6K)
DESCRIPTION:[N] Lee University Women’s Cross Country vs Gulf South Conference Championship (6K) 2nd of 12Streaming Video: https://flosports.link/3U98kz0
URL:https://events.leeuniversity.edu/event/lee-university-womens-cross-country-vs-gulf-south-conference-championship/
LOCATION:Memphis\, Tenn.
CATEGORIES:Athletics
ATTACH;FMTTYPE=image/jpeg:https://events.leeuniversity.edu/wp-content/uploads/Event-Header-Athletics-Default.jpg
END:VEVENT
BEGIN:VEVENT
DTSTART;TZID=America/New_York:20251025T084500
DTEND;TZID=America/New_York:20251025T114500
DTSTAMP:20260422T120924
CREATED:20250616T164158Z
LAST-MODIFIED:20251125T235653Z
UID:10000563-1761381900-1761392700@events.leeuniversity.edu
SUMMARY:Lee University Men's Cross Country vs Gulf South Conference Championship (8K)
DESCRIPTION:[N] Lee University Men’s Cross Country vs Gulf South Conference Championship (8K) 1st of 11Streaming Video: https://flosports.link/3U98kz0
URL:https://events.leeuniversity.edu/event/lee-university-mens-cross-country-vs-gulf-south-conference-championship/
LOCATION:Memphis\, Tenn.
CATEGORIES:Athletics
ATTACH;FMTTYPE=image/jpeg:https://events.leeuniversity.edu/wp-content/uploads/Event-Header-Athletics-Default.jpg
END:VEVENT
BEGIN:VEVENT
DTSTART;TZID=America/New_York:20251025T103000
DTEND;TZID=America/New_York:20251025T150000
DTSTAMP:20260422T120924
CREATED:20251015T192533Z
LAST-MODIFIED:20251015T192533Z
UID:10002902-1761388200-1761404400@events.leeuniversity.edu
SUMMARY:Men's and Women's Rugby Double-Header
DESCRIPTION:Women’s kickoff is at 10:30 am\, and men’s kickoff is at 12:30 pm.
URL:https://events.leeuniversity.edu/event/mens-and-womens-rugby-double-header/
LOCATION:Carroll Court Rugby Field\, 1765-1769 Greenwood Avenue NE\, Cleveland\, 37311\, United States
CATEGORIES:Campus Recreation
ATTACH;FMTTYPE=image/png:https://events.leeuniversity.edu/wp-content/uploads/Lee-U-web-thumbnail-2.png
ORGANIZER;CN="Campus Rec":MAILTO:campusrecreation@leeuniversity.edu
END:VEVENT
BEGIN:VEVENT
DTSTART;TZID=America/New_York:20251025T130000
DTEND;TZID=America/New_York:20251025T150000
DTSTAMP:20260422T120924
CREATED:20250521T155741Z
LAST-MODIFIED:20251125T235653Z
UID:10000549-1761397200-1761404400@events.leeuniversity.edu
SUMMARY:Lee University Volleyball vs The University of Alabama in Huntsville
DESCRIPTION:[L] Lee University Volleyball vs The University of Alabama in HuntsvilleL 1-3 (22-25\, 25-23\, 25-27\, 19-25)Streaming Video: https://flosports.link/474JkAs
URL:https://events.leeuniversity.edu/event/lee-university-volleyball-vs-the-university-of-alabama-in-huntsville/
LOCATION:Cleveland\, Tenn.\, Paul Dana Walker Arena
CATEGORIES:Athletics
ATTACH;FMTTYPE=image/jpeg:https://events.leeuniversity.edu/wp-content/uploads/Event-Header-Athletics-Default.jpg
END:VEVENT
BEGIN:VEVENT
DTSTART;VALUE=DATE:20251027
DTEND;VALUE=DATE:20251028
DTSTAMP:20260422T120924
CREATED:20251002T174351Z
LAST-MODIFIED:20251127T235655Z
UID:10002673-1761523200-1761609599@events.leeuniversity.edu
SUMMARY:Lee University Women's Golf at D2 Currahee Elite Invitational
DESCRIPTION:[N] Lee University Women’s Golf at D2 Currahee Elite Invitational 9th of 18 Teams
URL:https://events.leeuniversity.edu/event/lee-university-womens-golf-at-d2-currahee-elite-invitational/
LOCATION:Toccoa\, Ga.
CATEGORIES:Athletics
ATTACH;FMTTYPE=image/jpeg:https://events.leeuniversity.edu/wp-content/uploads/Event-Header-Athletics-Default.jpg
END:VEVENT
BEGIN:VEVENT
DTSTART;TZID=America/New_York:20251027T130000
DTEND;TZID=America/New_York:20251027T150000
DTSTAMP:20260422T120924
CREATED:20250515T154255Z
LAST-MODIFIED:20251127T235655Z
UID:10000517-1761570000-1761577200@events.leeuniversity.edu
SUMMARY:Lee University Women's Soccer at Delta State University
DESCRIPTION:[W] Lee University Women’s Soccer at Delta State UniversityW 3-1Streaming Video: https://flosports.link/46zuXUP
URL:https://events.leeuniversity.edu/event/lee-university-womens-soccer-at-delta-state-university/
LOCATION:Cleveland\, Miss.
CATEGORIES:Athletics
ATTACH;FMTTYPE=image/jpeg:https://events.leeuniversity.edu/wp-content/uploads/Event-Header-Athletics-Default.jpg
END:VEVENT
BEGIN:VEVENT
DTSTART;TZID=America/New_York:20251027T153000
DTEND;TZID=America/New_York:20251027T173000
DTSTAMP:20260422T120924
CREATED:20250515T154255Z
LAST-MODIFIED:20251127T235655Z
UID:10000518-1761579000-1761586200@events.leeuniversity.edu
SUMMARY:Lee University Men's Soccer at Delta State University
DESCRIPTION:[L] Lee University Men’s Soccer at Delta State UniversityL 1-2Streaming Video: https://flosports.link/3U7QE6T
URL:https://events.leeuniversity.edu/event/lee-university-mens-soccer-at-delta-state-university/
LOCATION:Cleveland\, Miss.
CATEGORIES:Athletics
ATTACH;FMTTYPE=image/jpeg:https://events.leeuniversity.edu/wp-content/uploads/Event-Header-Athletics-Default.jpg
END:VEVENT
BEGIN:VEVENT
DTSTART;TZID=America/New_York:20251027T193000
DTEND;TZID=America/New_York:20251027T203000
DTSTAMP:20260422T120924
CREATED:20250708T183523Z
LAST-MODIFIED:20250815T192517Z
UID:10000583-1761593400-1761597000@events.leeuniversity.edu
SUMMARY:Orchestra Concert
DESCRIPTION:10/13 – Concert: Orchestra; 7:30pm\, Pangle
URL:https://events.leeuniversity.edu/event/orchestra-concert/
LOCATION:Pangle Hall
CATEGORIES:Music
ATTACH;FMTTYPE=image/png:https://events.leeuniversity.edu/wp-content/uploads/Orchestra.png
ORGANIZER;CN="LEEU":MAILTO:info@leeuniversity.edu
END:VEVENT
BEGIN:VEVENT
DTSTART;TZID=America/New_York:20251028T104500
DTEND;TZID=America/New_York:20251028T104500
DTSTAMP:20260422T120924
CREATED:20250925T163907Z
LAST-MODIFIED:20251009T231218Z
UID:10000656-1761648300-1761648300@events.leeuniversity.edu
SUMMARY:Chapel-Phil Cook  
DESCRIPTION:
URL:https://events.leeuniversity.edu/event/phil-cook-5/
LOCATION:Conn Center\, 150 11th St NE\, Cleveland\, TN\, 37312\, United States
CATEGORIES:Chapel
ATTACH;FMTTYPE=image/jpeg:https://events.leeuniversity.edu/wp-content/uploads/EVENTS-CONN-CENTER.jpg
ORGANIZER;CN="LEEU":MAILTO:info@leeuniversity.edu
END:VEVENT
BEGIN:VEVENT
DTSTART;TZID=America/New_York:20251028T113000
DTEND;TZID=America/New_York:20251028T160000
DTSTAMP:20260422T120924
CREATED:20251003T121520Z
LAST-MODIFIED:20251003T121520Z
UID:10002892-1761651000-1761667200@events.leeuniversity.edu
SUMMARY:Global Perspectives World's Fair
DESCRIPTION:Oct. 28 11:30-400 \nSMC GREAT ROOM
URL:https://events.leeuniversity.edu/event/global-perspectives-worlds-fair/
ATTACH;FMTTYPE=image/jpeg:https://events.leeuniversity.edu/wp-content/uploads/EVENTSwf.jpg
ORGANIZER;CN="LEEU":MAILTO:info@leeuniversity.edu
END:VEVENT
BEGIN:VEVENT
DTSTART;TZID=America/New_York:20251029T080000
DTEND;TZID=America/New_York:20251030T170000
DTSTAMP:20260422T120924
CREATED:20251027T205319Z
LAST-MODIFIED:20251027T205319Z
UID:10002910-1761724800-1761843600@events.leeuniversity.edu
SUMMARY:ACS for Athletes\, Seniors\, and Special Groups 
DESCRIPTION:Advisor evaluation must be completed to register on Oct. 29
URL:https://events.leeuniversity.edu/event/acs-for-athletes-seniors-and-special-groups/
ATTACH;FMTTYPE=image/jpeg:https://events.leeuniversity.edu/wp-content/uploads/Lee-21.jpeg
END:VEVENT
BEGIN:VEVENT
DTSTART;TZID=America/New_York:20251030T104500
DTEND;TZID=America/New_York:20251030T104500
DTSTAMP:20260422T120924
CREATED:20250925T163956Z
LAST-MODIFIED:20251009T231303Z
UID:10000657-1761821100-1761821100@events.leeuniversity.edu
SUMMARY:Chapel-Lorinda Roberts
DESCRIPTION:
URL:https://events.leeuniversity.edu/event/lorinda-roberts/
LOCATION:Conn Center\, 150 11th St NE\, Cleveland\, TN\, 37312\, United States
CATEGORIES:Chapel
ATTACH;FMTTYPE=image/jpeg:https://events.leeuniversity.edu/wp-content/uploads/EVENTS-CONN-CENTER.jpg
ORGANIZER;CN="LEEU":MAILTO:info@leeuniversity.edu
END:VEVENT
BEGIN:VEVENT
DTSTART;TZID=America/New_York:20251030T104500
DTEND;TZID=America/New_York:20251030T104500
DTSTAMP:20260422T120924
CREATED:20250925T164111Z
LAST-MODIFIED:20251009T195649Z
UID:10000658-1761821100-1761821100@events.leeuniversity.edu
SUMMARY:Communion Chapel
DESCRIPTION:
URL:https://events.leeuniversity.edu/event/communion-chapel-4/
LOCATION:The Chapel
CATEGORIES:Chapel
ATTACH;FMTTYPE=image/jpeg:https://events.leeuniversity.edu/wp-content/uploads/The-Chapel-2.jpg
ORGANIZER;CN="LEEU":MAILTO:info@leeuniversity.edu
END:VEVENT
BEGIN:VEVENT
DTSTART;TZID=America/New_York:20251030T193000
DTEND;TZID=America/New_York:20251030T210000
DTSTAMP:20260422T120924
CREATED:20251001T150653Z
LAST-MODIFIED:20251001T171250Z
UID:10002653-1761852600-1761858000@events.leeuniversity.edu
SUMMARY:Presidential Concert Series: Glenn Miller Orchestra
DESCRIPTION:Lee University will be presenting the Glenn Miller Orchestra.  Returning after their popular performance in 2023\, the Glenn Miller Orchestra is considered to be one of the greatest bands of all time and we are thrilled to welcome them back! 
URL:https://events.leeuniversity.edu/event/presidential-concert-series-glenn-miller-orchestra/
CATEGORIES:Presidential Concert Series
ATTACH;FMTTYPE=image/webp:https://events.leeuniversity.edu/wp-content/uploads/Glenn-Miller-Orchestra-2.webp
ORGANIZER;CN="LEEU":MAILTO:info@leeuniversity.edu
END:VEVENT
BEGIN:VEVENT
DTSTART;VALUE=DATE:20251031
DTEND;VALUE=DATE:20251102
DTSTAMP:20260422T120924
CREATED:20251002T174352Z
LAST-MODIFIED:20251130T235724Z
UID:10002674-1761868800-1762041599@events.leeuniversity.edu
SUMMARY:Lee University Women's Tennis vs Gulf South Conference invitational
DESCRIPTION:[N] Lee University Women’s Tennis vs Gulf South Conference invitational
URL:https://events.leeuniversity.edu/event/lee-university-womens-tennis-vs-gulf-south-conference-invitational/
LOCATION:Mobile\, Ala.\, DeVos Tennis Center
CATEGORIES:Athletics
ATTACH;FMTTYPE=image/jpeg:https://events.leeuniversity.edu/wp-content/uploads/Event-Header-Athletics-Default.jpg
END:VEVENT
BEGIN:VEVENT
DTSTART;VALUE=DATE:20251031
DTEND;VALUE=DATE:20251102
DTSTAMP:20260422T120924
CREATED:20251002T174353Z
LAST-MODIFIED:20251130T235724Z
UID:10002675-1761868800-1762041599@events.leeuniversity.edu
SUMMARY:Lee University Men's Tennis vs Gulf South Conference invitational
DESCRIPTION:[N] Lee University Men’s Tennis vs Gulf South Conference invitational
URL:https://events.leeuniversity.edu/event/lee-university-mens-tennis-vs-gulf-south-conference-invitational/
LOCATION:Mobile\, Ala.\, DeVos Tennis Center
CATEGORIES:Athletics
ATTACH;FMTTYPE=image/jpeg:https://events.leeuniversity.edu/wp-content/uploads/Event-Header-Athletics-Default.jpg
END:VEVENT
BEGIN:VEVENT
DTSTART;TZID=America/New_York:20251031T080000
DTEND;TZID=America/New_York:20251101T170000
DTSTAMP:20260422T120924
CREATED:20251027T205614Z
LAST-MODIFIED:20251027T205614Z
UID:10002913-1761897600-1762016400@events.leeuniversity.edu
SUMMARY:ACS for Juniors
DESCRIPTION:Advisor evaluation must be completed to register on Oct. 31
URL:https://events.leeuniversity.edu/event/acs-for-juniors/
ATTACH;FMTTYPE=image/jpeg:https://events.leeuniversity.edu/wp-content/uploads/Lee-24.jpeg
END:VEVENT
BEGIN:VEVENT
DTSTART;TZID=America/New_York:20251031T160000
DTEND;TZID=America/New_York:20251031T180000
DTSTAMP:20260422T120924
CREATED:20250515T154255Z
LAST-MODIFIED:20251130T235724Z
UID:10000519-1761926400-1761933600@events.leeuniversity.edu
SUMMARY:Lee University Women's Soccer vs Union University (Tenn.)
DESCRIPTION:[W] Lee University Women’s Soccer vs Union University (Tenn.)W 4-1Streaming Video: https://flosports.link/457BOlP
URL:https://events.leeuniversity.edu/event/lee-university-womens-soccer-vs-union-university-tenn/
LOCATION:Cleveland\, Tenn.\, Ray Conn Sports Complex
CATEGORIES:Athletics
ATTACH;FMTTYPE=image/jpeg:https://events.leeuniversity.edu/wp-content/uploads/Event-Header-Athletics-Default.jpg
END:VEVENT
BEGIN:VEVENT
DTSTART;TZID=America/New_York:20251031T180000
DTEND;TZID=America/New_York:20251031T190000
DTSTAMP:20260422T120924
CREATED:20250708T184246Z
LAST-MODIFIED:20250708T184246Z
UID:10000586-1761933600-1761937200@events.leeuniversity.edu
SUMMARY:Senior Recital: Emily Farley\, soprano & Blake Smith\, saxophone
DESCRIPTION:10/31 – Senior Recital: Emily Farley\, soprano & Blake Smith\, saxophone; 6:00pm\, Squires
URL:https://events.leeuniversity.edu/event/senior-recital-emily-farley-soprano-blake-smith-saxophone/
LOCATION:HUM 108 Squires Recital Hall
CATEGORIES:Music
ATTACH;FMTTYPE=image/png:https://events.leeuniversity.edu/wp-content/uploads/Recitals-7.png
ORGANIZER;CN="LEEU":MAILTO:info@leeuniversity.edu
END:VEVENT
BEGIN:VEVENT
DTSTART;TZID=America/New_York:20251031T180000
DTEND;TZID=America/New_York:20251031T200000
DTSTAMP:20260422T120924
CREATED:20250521T155742Z
LAST-MODIFIED:20251130T235724Z
UID:10000550-1761933600-1761940800@events.leeuniversity.edu
SUMMARY:Lee University Volleyball at University of West Alabama
DESCRIPTION:[L] Lee University Volleyball at University of West AlabamaL 2-3 (22-25\, 25-16\, 17-25\, 25-19\, 11-15)Streaming Video: https://flosports.link/4mjI8O2
URL:https://events.leeuniversity.edu/event/lee-university-volleyball-at-university-of-west-alabama/
LOCATION:Livingston\, Ala.
CATEGORIES:Athletics
ATTACH;FMTTYPE=image/jpeg:https://events.leeuniversity.edu/wp-content/uploads/Event-Header-Athletics-Default.jpg
END:VEVENT
BEGIN:VEVENT
DTSTART;TZID=America/New_York:20251031T183000
DTEND;TZID=America/New_York:20251031T203000
DTSTAMP:20260422T120924
CREATED:20250515T154256Z
LAST-MODIFIED:20251130T235724Z
UID:10000520-1761935400-1761942600@events.leeuniversity.edu
SUMMARY:Lee University Men's Soccer vs Union University (Tenn.)
DESCRIPTION:[W] Lee University Men’s Soccer vs Union University (Tenn.)W 3-1Streaming Video: https://flosports.link/3UB8Sh8
URL:https://events.leeuniversity.edu/event/lee-university-mens-soccer-vs-union-university-tenn/
LOCATION:Cleveland\, Tenn.\, Ray Conn Sports Complex
CATEGORIES:Athletics
ATTACH;FMTTYPE=image/jpeg:https://events.leeuniversity.edu/wp-content/uploads/Event-Header-Athletics-Default.jpg
END:VEVENT
BEGIN:VEVENT
DTSTART;VALUE=DATE:20251101
DTEND;VALUE=DATE:20251102
DTSTAMP:20260422T120924
CREATED:20250211T135659Z
LAST-MODIFIED:20250211T142143Z
UID:10000329-1761955200-1762041599@events.leeuniversity.edu
SUMMARY:Application to Graduate in Spring Opens
DESCRIPTION:Application to Graduate in Spring Opens
URL:https://events.leeuniversity.edu/event/application-to-graduate-in-spring-opens/
CATEGORIES:Academic
ATTACH;FMTTYPE=image/png:https://events.leeuniversity.edu/wp-content/uploads/Campus-Sunset-2.png
ORGANIZER;CN="LEEU":MAILTO:info@leeuniversity.edu
END:VEVENT
BEGIN:VEVENT
DTSTART;TZID=America/New_York:20251101T130000
DTEND;TZID=America/New_York:20251101T150000
DTSTAMP:20260422T120924
CREATED:20250521T155742Z
LAST-MODIFIED:20251201T235743Z
UID:10000551-1762002000-1762009200@events.leeuniversity.edu
SUMMARY:Lee University Volleyball at Mississippi College
DESCRIPTION:[W] Lee University Volleyball at Mississippi CollegeW 3-1 (13-25\, 30-28\, 25-16\, 25-22)Streaming Video: https://flosports.link/46AL0Sb
URL:https://events.leeuniversity.edu/event/lee-university-volleyball-at-mississippi-college/
LOCATION:Clinton\, Miss.
CATEGORIES:Athletics
ATTACH;FMTTYPE=image/jpeg:https://events.leeuniversity.edu/wp-content/uploads/Event-Header-Athletics-Default.jpg
END:VEVENT
END:VCALENDAR