BEGIN:VCALENDAR
VERSION:2.0
PRODID:-//Lee University Events - ECPv6.15.17.1//NONSGML v1.0//EN
CALSCALE:GREGORIAN
METHOD:PUBLISH
X-ORIGINAL-URL:https://events.leeuniversity.edu
X-WR-CALDESC:Events for Lee University Events
REFRESH-INTERVAL;VALUE=DURATION:PT1H
X-Robots-Tag:noindex
X-PUBLISHED-TTL:PT1H
BEGIN:VTIMEZONE
TZID:America/New_York
BEGIN:DAYLIGHT
TZOFFSETFROM:-0500
TZOFFSETTO:-0400
TZNAME:EDT
DTSTART:20240310T070000
END:DAYLIGHT
BEGIN:STANDARD
TZOFFSETFROM:-0400
TZOFFSETTO:-0500
TZNAME:EST
DTSTART:20241103T060000
END:STANDARD
BEGIN:DAYLIGHT
TZOFFSETFROM:-0500
TZOFFSETTO:-0400
TZNAME:EDT
DTSTART:20250309T070000
END:DAYLIGHT
BEGIN:STANDARD
TZOFFSETFROM:-0400
TZOFFSETTO:-0500
TZNAME:EST
DTSTART:20251102T060000
END:STANDARD
BEGIN:DAYLIGHT
TZOFFSETFROM:-0500
TZOFFSETTO:-0400
TZNAME:EDT
DTSTART:20260308T070000
END:DAYLIGHT
BEGIN:STANDARD
TZOFFSETFROM:-0400
TZOFFSETTO:-0500
TZNAME:EST
DTSTART:20261101T060000
END:STANDARD
END:VTIMEZONE
BEGIN:VEVENT
DTSTART;TZID=America/New_York:20250701T080000
DTEND;TZID=America/New_York:20250701T170000
DTSTAMP:20260419T102854
CREATED:20240119T172131Z
LAST-MODIFIED:20240819T200350Z
UID:10000157-1751356800-1751389200@events.leeuniversity.edu
SUMMARY:Application to graduate in December opens.
DESCRIPTION:Application to graduate in December opens.
URL:https://events.leeuniversity.edu/event/application-to-graduate-in-december-opens-2/
CATEGORIES:Academic
ATTACH;FMTTYPE=image/jpeg:https://events.leeuniversity.edu/wp-content/uploads/EVENT-REGISTRATION.jpg
ORGANIZER;CN="LEEU":MAILTO:info@leeuniversity.edu
END:VEVENT
BEGIN:VEVENT
DTSTART;TZID=America/New_York:20250703T080000
DTEND;TZID=America/New_York:20250703T170000
DTSTAMP:20260419T102854
CREATED:20231101T202009Z
LAST-MODIFIED:20231101T202009Z
UID:10000237-1751529600-1751562000@events.leeuniversity.edu
SUMMARY:SS2 Final Exams
DESCRIPTION:SS2 Final Exams
URL:https://events.leeuniversity.edu/event/ss2-final-exams-2/
CATEGORIES:Academic
ATTACH;FMTTYPE=image/jpeg:https://events.leeuniversity.edu/wp-content/uploads/Commencement.jpg
ORGANIZER;CN="LEEU":MAILTO:info@leeuniversity.edu
END:VEVENT
BEGIN:VEVENT
DTSTART;TZID=America/New_York:20250704T080000
DTEND;TZID=America/New_York:20250704T170000
DTSTAMP:20260419T102854
CREATED:20221025T203949Z
LAST-MODIFIED:20250701T180603Z
UID:10000174-1751616000-1751648400@events.leeuniversity.edu
SUMMARY:Independence Day Offices Closed
DESCRIPTION:Independence Day \nOffices Closed
URL:https://events.leeuniversity.edu/event/independence-day/
CATEGORIES:Academic
ATTACH;FMTTYPE=image/jpeg:https://events.leeuniversity.edu/wp-content/uploads/EVENT-INDEPENCE.jpg
ORGANIZER;CN="LEEU":MAILTO:info@leeuniversity.edu
END:VEVENT
BEGIN:VEVENT
DTSTART;TZID=America/New_York:20250704T080000
DTEND;TZID=America/New_York:20250704T170000
DTSTAMP:20260419T102854
CREATED:20231101T202309Z
LAST-MODIFIED:20231101T202309Z
UID:10000238-1751616000-1751648400@events.leeuniversity.edu
SUMMARY:Registration for SS3
DESCRIPTION:Registration for SS3
URL:https://events.leeuniversity.edu/event/registration-for-ss3-2/
CATEGORIES:Academic
ATTACH;FMTTYPE=image/jpeg:https://events.leeuniversity.edu/wp-content/uploads/EVENT-REGISTRATION.jpg
ORGANIZER;CN="LEEU":MAILTO:info@leeuniversity.edu
END:VEVENT
BEGIN:VEVENT
DTSTART;TZID=America/New_York:20250704T080000
DTEND;TZID=America/New_York:20250704T170000
DTSTAMP:20260419T102854
CREATED:20231101T202353Z
LAST-MODIFIED:20231101T202353Z
UID:10000239-1751616000-1751648400@events.leeuniversity.edu
SUMMARY:SS3 Classes Begin
DESCRIPTION:SS3 Classes Begin
URL:https://events.leeuniversity.edu/event/ss3-classes-begin-2/
CATEGORIES:Academic
ATTACH;FMTTYPE=image/jpeg:https://events.leeuniversity.edu/wp-content/uploads/EVENT-FINALS.jpg
ORGANIZER;CN="LEEU":MAILTO:info@leeuniversity.edu
END:VEVENT
BEGIN:VEVENT
DTSTART;TZID=America/New_York:20250711T080000
DTEND;TZID=America/New_York:20250711T170000
DTSTAMP:20260419T102854
CREATED:20231101T202610Z
LAST-MODIFIED:20241009T212605Z
UID:10000240-1752220800-1752253200@events.leeuniversity.edu
SUMMARY:Final day to register or add/drop SS3 Class
DESCRIPTION:Final day to register or add/drop SS3 Class
URL:https://events.leeuniversity.edu/event/final-day-to-register-or-add-drop-ss3-class/
CATEGORIES:Academic
ATTACH;FMTTYPE=image/jpeg:https://events.leeuniversity.edu/wp-content/uploads/EVENT-REGISTRATION.jpg
ORGANIZER;CN="LEEU":MAILTO:info@leeuniversity.edu
END:VEVENT
BEGIN:VEVENT
DTSTART;TZID=America/New_York:20250717T080000
DTEND;TZID=America/New_York:20250717T170000
DTSTAMP:20260419T102854
CREATED:20231101T202706Z
LAST-MODIFIED:20231101T202706Z
UID:10000241-1752739200-1752771600@events.leeuniversity.edu
SUMMARY:Last day to withdraw from SS3 with a grade of "W"
DESCRIPTION:Last day to withdraw from SS3 with a grade of “W”
URL:https://events.leeuniversity.edu/event/last-day-to-withdraw-from-ss3-with-a-grade-of-w-2/
CATEGORIES:Academic
ATTACH;FMTTYPE=image/jpeg:https://events.leeuniversity.edu/wp-content/uploads/EVENT-LAST.jpg
ORGANIZER;CN="LEEU":MAILTO:info@leeuniversity.edu
END:VEVENT
BEGIN:VEVENT
DTSTART;VALUE=DATE:20250728
DTEND;VALUE=DATE:20250802
DTSTAMP:20260419T102854
CREATED:20250207T141454Z
LAST-MODIFIED:20250211T141855Z
UID:10000305-1753660800-1754092799@events.leeuniversity.edu
SUMMARY:Teen Talent
DESCRIPTION:Teen Talent 2025
URL:https://events.leeuniversity.edu/event/teen-talent-2/
CATEGORIES:Academic
ATTACH;FMTTYPE=image/jpeg:https://events.leeuniversity.edu/wp-content/uploads/Teen-Talent-2025-1.jpg
ORGANIZER;CN="LEEU":MAILTO:info@leeuniversity.edu
END:VEVENT
BEGIN:VEVENT
DTSTART;TZID=America/New_York:20250731T080000
DTEND;TZID=America/New_York:20250731T170000
DTSTAMP:20260419T102854
CREATED:20231101T202918Z
LAST-MODIFIED:20231101T202918Z
UID:10000242-1753948800-1753981200@events.leeuniversity.edu
SUMMARY:SS3 Finals
DESCRIPTION:SS3 Finals
URL:https://events.leeuniversity.edu/event/ss3-finals-2/
CATEGORIES:Academic
ATTACH;FMTTYPE=image/jpeg:https://events.leeuniversity.edu/wp-content/uploads/EVENT-FINALS.jpg
ORGANIZER;CN="LEEU":MAILTO:info@leeuniversity.edu
END:VEVENT
END:VCALENDAR