BEGIN:VCALENDAR
VERSION:2.0
PRODID:-//Lee University Events - ECPv6.15.17.1//NONSGML v1.0//EN
CALSCALE:GREGORIAN
METHOD:PUBLISH
X-WR-CALNAME:Lee University Events
X-ORIGINAL-URL:https://events.leeuniversity.edu
X-WR-CALDESC:Events for Lee University Events
REFRESH-INTERVAL;VALUE=DURATION:PT1H
X-Robots-Tag:noindex
X-PUBLISHED-TTL:PT1H
BEGIN:VTIMEZONE
TZID:America/New_York
BEGIN:DAYLIGHT
TZOFFSETFROM:-0500
TZOFFSETTO:-0400
TZNAME:EDT
DTSTART:20250309T070000
END:DAYLIGHT
BEGIN:STANDARD
TZOFFSETFROM:-0400
TZOFFSETTO:-0500
TZNAME:EST
DTSTART:20251102T060000
END:STANDARD
BEGIN:DAYLIGHT
TZOFFSETFROM:-0500
TZOFFSETTO:-0400
TZNAME:EDT
DTSTART:20260308T070000
END:DAYLIGHT
BEGIN:STANDARD
TZOFFSETFROM:-0400
TZOFFSETTO:-0500
TZNAME:EST
DTSTART:20261101T060000
END:STANDARD
BEGIN:DAYLIGHT
TZOFFSETFROM:-0500
TZOFFSETTO:-0400
TZNAME:EDT
DTSTART:20270314T070000
END:DAYLIGHT
BEGIN:STANDARD
TZOFFSETFROM:-0400
TZOFFSETTO:-0500
TZNAME:EST
DTSTART:20271107T060000
END:STANDARD
END:VTIMEZONE
BEGIN:VEVENT
DTSTART;TZID=America/New_York:20260817T080000
DTEND;TZID=America/New_York:20260817T170000
DTSTAMP:20260422T180346
CREATED:20250926T154928Z
LAST-MODIFIED:20260127T174752Z
UID:10000680-1786953600-1786986000@events.leeuniversity.edu
SUMMARY:Registration
DESCRIPTION:.
URL:https://events.leeuniversity.edu/event/registration-4/
LOCATION:TN
CATEGORIES:Academic
ATTACH;FMTTYPE=image/jpeg:https://events.leeuniversity.edu/wp-content/uploads/LeeU.jpg
END:VEVENT
BEGIN:VEVENT
DTSTART;TZID=America/New_York:20260818T080000
DTEND;TZID=America/New_York:20260818T170000
DTSTAMP:20260422T180346
CREATED:20250926T155051Z
LAST-MODIFIED:20260202T193231Z
UID:10000681-1787040000-1787072400@events.leeuniversity.edu
SUMMARY:Registration and Department Events
DESCRIPTION:.
URL:https://events.leeuniversity.edu/event/registration-and-department-events/
LOCATION:TN
CATEGORIES:Academic
ATTACH;FMTTYPE=image/jpeg:https://events.leeuniversity.edu/wp-content/uploads/LeeU-1.jpg
END:VEVENT
BEGIN:VEVENT
DTSTART;TZID=America/New_York:20260819T080000
DTEND;TZID=America/New_York:20260819T170000
DTSTAMP:20260422T180346
CREATED:20250926T155136Z
LAST-MODIFIED:20260127T174753Z
UID:10000682-1787126400-1787158800@events.leeuniversity.edu
SUMMARY:Classes Begin
DESCRIPTION:.
URL:https://events.leeuniversity.edu/event/classes-begin-3/
LOCATION:TN
CATEGORIES:Academic
ATTACH;FMTTYPE=image/jpeg:https://events.leeuniversity.edu/wp-content/uploads/Studying-2-scaled.jpg
END:VEVENT
BEGIN:VEVENT
DTSTART;TZID=America/New_York:20260901T080000
DTEND;TZID=America/New_York:20260901T170000
DTSTAMP:20260422T180346
CREATED:20250926T155300Z
LAST-MODIFIED:20260127T174756Z
UID:10000683-1788249600-1788282000@events.leeuniversity.edu
SUMMARY:Faculty Meeting
DESCRIPTION:.
URL:https://events.leeuniversity.edu/event/faculty-meeting-11/
LOCATION:TN
CATEGORIES:Academic
ATTACH;FMTTYPE=image/jpeg:https://events.leeuniversity.edu/wp-content/uploads/Flame-Lee-3.jpg
END:VEVENT
BEGIN:VEVENT
DTSTART;TZID=America/New_York:20260901T080000
DTEND;TZID=America/New_York:20260901T170000
DTSTAMP:20260422T180347
CREATED:20250926T155404Z
LAST-MODIFIED:20260127T174757Z
UID:10000684-1788249600-1788282000@events.leeuniversity.edu
SUMMARY:Last day to register or add/drop a class
DESCRIPTION:.
URL:https://events.leeuniversity.edu/event/last-day-to-register-or-add-drop-a-class-3/
LOCATION:TN
CATEGORIES:Academic
ATTACH;FMTTYPE=image/jpeg:https://events.leeuniversity.edu/wp-content/uploads/Studying-3-scaled.jpg
END:VEVENT
BEGIN:VEVENT
DTSTART;TZID=America/New_York:20260906T080000
DTEND;TZID=America/New_York:20260906T170000
DTSTAMP:20260422T180347
CREATED:20250926T155645Z
LAST-MODIFIED:20260127T174809Z
UID:10000686-1788681600-1788714000@events.leeuniversity.edu
SUMMARY:Convocation
DESCRIPTION:.
URL:https://events.leeuniversity.edu/event/convocation-4/2026-09-06/
LOCATION:TN
CATEGORIES:Academic
ATTACH;FMTTYPE=image/jpeg:https://events.leeuniversity.edu/wp-content/uploads/Lee-5.jpeg
END:VEVENT
BEGIN:VEVENT
DTSTART;TZID=America/New_York:20260907T080000
DTEND;TZID=America/New_York:20260907T170000
DTSTAMP:20260422T180347
CREATED:20250926T155645Z
LAST-MODIFIED:20260127T174809Z
UID:10000687-1788768000-1788800400@events.leeuniversity.edu
SUMMARY:Convocation
DESCRIPTION:.
URL:https://events.leeuniversity.edu/event/convocation-4/2026-09-07/
LOCATION:TN
CATEGORIES:Academic
ATTACH;FMTTYPE=image/jpeg:https://events.leeuniversity.edu/wp-content/uploads/Lee-5.jpeg
END:VEVENT
BEGIN:VEVENT
DTSTART;TZID=America/New_York:20260907T080000
DTEND;TZID=America/New_York:20260907T170000
DTSTAMP:20260422T180347
CREATED:20250926T155911Z
LAST-MODIFIED:20260202T193322Z
UID:10001055-1788768000-1788800400@events.leeuniversity.edu
SUMMARY:Labor Day
DESCRIPTION:Classes Meet\, Offices Open
URL:https://events.leeuniversity.edu/event/labor-day/
LOCATION:TN
CATEGORIES:Academic
ATTACH;FMTTYPE=image/jpeg:https://events.leeuniversity.edu/wp-content/uploads/LeeU-2.jpg
END:VEVENT
BEGIN:VEVENT
DTSTART;TZID=America/New_York:20260908T080000
DTEND;TZID=America/New_York:20260908T170000
DTSTAMP:20260422T180347
CREATED:20250926T155645Z
LAST-MODIFIED:20260127T174809Z
UID:10000688-1788854400-1788886800@events.leeuniversity.edu
SUMMARY:Convocation
DESCRIPTION:.
URL:https://events.leeuniversity.edu/event/convocation-4/2026-09-08/
LOCATION:TN
CATEGORIES:Academic
ATTACH;FMTTYPE=image/jpeg:https://events.leeuniversity.edu/wp-content/uploads/Lee-5.jpeg
END:VEVENT
BEGIN:VEVENT
DTSTART;TZID=America/New_York:20260909T080000
DTEND;TZID=America/New_York:20260909T170000
DTSTAMP:20260422T180347
CREATED:20250926T155645Z
LAST-MODIFIED:20260127T174809Z
UID:10000689-1788940800-1788973200@events.leeuniversity.edu
SUMMARY:Convocation
DESCRIPTION:.
URL:https://events.leeuniversity.edu/event/convocation-4/2026-09-09/
LOCATION:TN
CATEGORIES:Academic
ATTACH;FMTTYPE=image/jpeg:https://events.leeuniversity.edu/wp-content/uploads/Lee-5.jpeg
END:VEVENT
BEGIN:VEVENT
DTSTART;TZID=America/New_York:20260915T080000
DTEND;TZID=America/New_York:20260915T170000
DTSTAMP:20260422T180347
CREATED:20250926T160035Z
LAST-MODIFIED:20260127T174811Z
UID:10001056-1789459200-1789491600@events.leeuniversity.edu
SUMMARY:Graduation Meeting Winter Graduates
DESCRIPTION:.
URL:https://events.leeuniversity.edu/event/graduation-meeting-winter-graduates-2/
LOCATION:TN
CATEGORIES:Academic
ATTACH;FMTTYPE=image/png:https://events.leeuniversity.edu/wp-content/uploads/Campus-Sunset-15-2.png
END:VEVENT
BEGIN:VEVENT
DTSTART;TZID=America/New_York:20260919T080000
DTEND;TZID=America/New_York:20260919T170000
DTSTAMP:20260422T180347
CREATED:20250929T173250Z
LAST-MODIFIED:20260127T174826Z
UID:10001059-1789804800-1789837200@events.leeuniversity.edu
SUMMARY:Senior Testing
DESCRIPTION:GNST400
URL:https://events.leeuniversity.edu/event/senior-testing-2/
LOCATION:TN
CATEGORIES:Academic
ATTACH;FMTTYPE=image/jpeg:https://events.leeuniversity.edu/wp-content/uploads/Studying-4-scaled.jpg
END:VEVENT
BEGIN:VEVENT
DTSTART;TZID=America/New_York:20260925T080000
DTEND;TZID=America/New_York:20260925T170000
DTSTAMP:20260422T180347
CREATED:20250929T173359Z
LAST-MODIFIED:20260127T174827Z
UID:10001060-1790323200-1790355600@events.leeuniversity.edu
SUMMARY:Winter Graduation Applicants: Due date for Transfer grades to be posted and "I" grades to be removed
DESCRIPTION:.
URL:https://events.leeuniversity.edu/event/winter-graduation-applicants-due-date-for-transfer-grades-to-be-posted-and-i-grades-to-be-removed/
LOCATION:TN
CATEGORIES:Academic
ATTACH;FMTTYPE=image/jpeg:https://events.leeuniversity.edu/wp-content/uploads/Lee-6.jpeg
END:VEVENT
BEGIN:VEVENT
DTSTART;TZID=America/New_York:20260926T080000
DTEND;TZID=America/New_York:20260926T170000
DTSTAMP:20260422T180347
CREATED:20250929T173442Z
LAST-MODIFIED:20260127T174834Z
UID:10001061-1790409600-1790442000@events.leeuniversity.edu
SUMMARY:Senior Testing SMFT
DESCRIPTION:.
URL:https://events.leeuniversity.edu/event/senior-testing-smft-4/
LOCATION:TN
CATEGORIES:Academic
ATTACH;FMTTYPE=image/jpeg:https://events.leeuniversity.edu/wp-content/uploads/LeeU-3.jpg
END:VEVENT
BEGIN:VEVENT
DTSTART;TZID=America/New_York:20260929T080000
DTEND;TZID=America/New_York:20260929T170000
DTSTAMP:20260422T180347
CREATED:20250929T173649Z
LAST-MODIFIED:20260127T174835Z
UID:10001062-1790668800-1790701200@events.leeuniversity.edu
SUMMARY:Graduate Faculty Meeting
DESCRIPTION:.
URL:https://events.leeuniversity.edu/event/graduate-faculty-meeting-3/
LOCATION:TN
CATEGORIES:Academic
ATTACH;FMTTYPE=image/jpeg:https://events.leeuniversity.edu/wp-content/uploads/Flame-Lee-4.jpg
END:VEVENT
BEGIN:VEVENT
DTSTART;TZID=America/New_York:20261001T080000
DTEND;TZID=America/New_York:20261001T170000
DTSTAMP:20260422T180347
CREATED:20250929T173833Z
LAST-MODIFIED:20260127T174843Z
UID:10001063-1790841600-1790874000@events.leeuniversity.edu
SUMMARY:Deadline to apply for student teaching in the Spring
DESCRIPTION:.
URL:https://events.leeuniversity.edu/event/deadline-to-apply-for-student-teaching-in-the-spring/
LOCATION:TN
CATEGORIES:Academic
ATTACH;FMTTYPE=image/png:https://events.leeuniversity.edu/wp-content/uploads/Campus-Sunset-15-3.png
END:VEVENT
BEGIN:VEVENT
DTSTART;TZID=America/New_York:20261001T080000
DTEND;TZID=America/New_York:20261001T170000
DTSTAMP:20260422T180347
CREATED:20250929T173940Z
LAST-MODIFIED:20260127T174844Z
UID:10001064-1790841600-1790874000@events.leeuniversity.edu
SUMMARY:Deadline to apply to graduate in Winter
DESCRIPTION:.
URL:https://events.leeuniversity.edu/event/deadline-to-apply-to-graduate-in-winter/
LOCATION:TN
CATEGORIES:Academic
ATTACH;FMTTYPE=image/jpeg:https://events.leeuniversity.edu/wp-content/uploads/Lee-7.jpeg
END:VEVENT
BEGIN:VEVENT
DTSTART;TZID=America/New_York:20261005T080000
DTEND;TZID=America/New_York:20261005T170000
DTSTAMP:20260422T180347
CREATED:20250929T174135Z
LAST-MODIFIED:20260127T174853Z
UID:10001065-1791187200-1791219600@events.leeuniversity.edu
SUMMARY:Service Hours and Reflections due for Seniors
DESCRIPTION:.
URL:https://events.leeuniversity.edu/event/service-hours-and-reflections-due-for-seniors/
LOCATION:TN
CATEGORIES:Academic
ATTACH;FMTTYPE=image/jpeg:https://events.leeuniversity.edu/wp-content/uploads/Flame-Lee-5.jpg
END:VEVENT
BEGIN:VEVENT
DTSTART;TZID=America/New_York:20261006T080000
DTEND;TZID=America/New_York:20261006T170000
DTSTAMP:20260422T180347
CREATED:20250929T174218Z
LAST-MODIFIED:20260127T174856Z
UID:10001066-1791273600-1791306000@events.leeuniversity.edu
SUMMARY:Faculty Meeting
DESCRIPTION:.
URL:https://events.leeuniversity.edu/event/faculty-meeting-12/
LOCATION:TN
CATEGORIES:Academic
ATTACH;FMTTYPE=image/jpeg:https://events.leeuniversity.edu/wp-content/uploads/Flame-Lee-6.jpg
END:VEVENT
BEGIN:VEVENT
DTSTART;TZID=America/New_York:20261008T080000
DTEND;TZID=America/New_York:20261009T170000
DTSTAMP:20260422T180347
CREATED:20251029T204302Z
LAST-MODIFIED:20260127T174901Z
UID:10002937-1791446400-1791565200@events.leeuniversity.edu
SUMMARY:Fall Break No Classes
DESCRIPTION:Offices Closed October 9
URL:https://events.leeuniversity.edu/event/fall-break-no-classes-2/
LOCATION:TN
CATEGORIES:Academic
ATTACH;FMTTYPE=image/jpeg:https://events.leeuniversity.edu/wp-content/uploads/Central-Campus-Fall-3.jpg
END:VEVENT
BEGIN:VEVENT
DTSTART;TZID=America/New_York:20261012T080000
DTEND;TZID=America/New_York:20261012T170000
DTSTAMP:20260422T180347
CREATED:20250929T174541Z
LAST-MODIFIED:20260127T174906Z
UID:10001069-1791792000-1791824400@events.leeuniversity.edu
SUMMARY:Classes Resume
DESCRIPTION:.
URL:https://events.leeuniversity.edu/event/classes-resume-8/
LOCATION:TN
CATEGORIES:Academic
ATTACH;FMTTYPE=image/jpeg:https://events.leeuniversity.edu/wp-content/uploads/LeeU-4.jpg
END:VEVENT
BEGIN:VEVENT
DTSTART;TZID=America/New_York:20261026T080000
DTEND;TZID=America/New_York:20261026T170000
DTSTAMP:20260422T180347
CREATED:20250929T174653Z
LAST-MODIFIED:20260127T174916Z
UID:10001070-1793001600-1793034000@events.leeuniversity.edu
SUMMARY:Last day to withdraw from a class with a grade of "W"
DESCRIPTION:.
URL:https://events.leeuniversity.edu/event/last-day-to-withdraw-from-a-class-with-a-grade-of-w-2/
LOCATION:TN
CATEGORIES:Academic
ATTACH;FMTTYPE=image/jpeg:https://events.leeuniversity.edu/wp-content/uploads/pcsu-2.jpg
END:VEVENT
BEGIN:VEVENT
DTSTART;VALUE=DATE:20261027
DTEND;VALUE=DATE:20261028
DTSTAMP:20260422T180347
CREATED:20250214T140148Z
LAST-MODIFIED:20250214T140148Z
UID:10000427-1793059200-1793145599@events.leeuniversity.edu
SUMMARY:Last day to withdraw from a class with a grade of "W"
DESCRIPTION:Last day to withdraw from a class with a grade of “W”
URL:https://events.leeuniversity.edu/event/last-day-to-withdraw-from-a-class-with-a-grade-of-w/
LOCATION:TN
CATEGORIES:Academic
ATTACH;FMTTYPE=image/png:https://events.leeuniversity.edu/wp-content/uploads/Campus-Sunset-15.png
ORGANIZER;CN="LEEU":MAILTO:info@leeuniversity.edu
END:VEVENT
BEGIN:VEVENT
DTSTART;TZID=America/New_York:20261029T080000
DTEND;TZID=America/New_York:20261029T170000
DTSTAMP:20260422T180347
CREATED:20250929T174739Z
LAST-MODIFIED:20260127T174936Z
UID:10001071-1793260800-1793293200@events.leeuniversity.edu
SUMMARY:Provost posts official candidate list for Winter Graduation
DESCRIPTION:.
URL:https://events.leeuniversity.edu/event/provost-posts-official-candidate-list-for-winter-graduation-2/
LOCATION:TN
CATEGORIES:Academic
ATTACH;FMTTYPE=image/jpeg:https://events.leeuniversity.edu/wp-content/uploads/Lee-10.jpeg
END:VEVENT
BEGIN:VEVENT
DTSTART;VALUE=DATE:20261030
DTEND;VALUE=DATE:20261031
DTSTAMP:20260422T180347
CREATED:20250214T140307Z
LAST-MODIFIED:20250214T144336Z
UID:10000428-1793318400-1793404799@events.leeuniversity.edu
SUMMARY:Provost Posts Official Candidate List for Winter Graduation
DESCRIPTION:Provost Posts Official Candidate List for Winter Graduation
URL:https://events.leeuniversity.edu/event/provost-posts-official-candidate-list-for-winter-graduation/
LOCATION:TN
CATEGORIES:Academic
ATTACH;FMTTYPE=image/png:https://events.leeuniversity.edu/wp-content/uploads/ProvostTesting-2.png
ORGANIZER;CN="LEEU":MAILTO:info@leeuniversity.edu
END:VEVENT
BEGIN:VEVENT
DTSTART;TZID=America/New_York:20261101T080000
DTEND;TZID=America/New_York:20261101T170000
DTSTAMP:20260422T180347
CREATED:20250929T174840Z
LAST-MODIFIED:20260127T174958Z
UID:10001072-1793520000-1793552400@events.leeuniversity.edu
SUMMARY:Spring 27 Application to Graduate Opens
DESCRIPTION:.
URL:https://events.leeuniversity.edu/event/spring-27-application-to-graduate-opens/
LOCATION:TN
CATEGORIES:Academic
ATTACH;FMTTYPE=image/png:https://events.leeuniversity.edu/wp-content/uploads/Campus-Sunset-15-4.png
END:VEVENT
BEGIN:VEVENT
DTSTART;TZID=America/New_York:20261103T080000
DTEND;TZID=America/New_York:20261103T170000
DTSTAMP:20260422T180347
CREATED:20250929T175352Z
LAST-MODIFIED:20260127T174959Z
UID:10001073-1793692800-1793725200@events.leeuniversity.edu
SUMMARY:Faculty Meeting
DESCRIPTION:.
URL:https://events.leeuniversity.edu/event/faculty-meeting-13/
LOCATION:TN
CATEGORIES:Academic
ATTACH;FMTTYPE=image/jpeg:https://events.leeuniversity.edu/wp-content/uploads/Flame-Lee-7.jpg
END:VEVENT
BEGIN:VEVENT
DTSTART;TZID=America/New_York:20261106T080000
DTEND;TZID=America/New_York:20261106T170000
DTSTAMP:20260422T180347
CREATED:20250929T173054Z
LAST-MODIFIED:20260226T202302Z
UID:10001058-1793952000-1793984400@events.leeuniversity.edu
SUMMARY:Celebration 2026
DESCRIPTION:.
URL:https://events.leeuniversity.edu/event/celebration-2026/
LOCATION:TN
CATEGORIES:Academic
ATTACH;FMTTYPE=image/jpeg:https://events.leeuniversity.edu/wp-content/uploads/pcsu-1.jpg
END:VEVENT
BEGIN:VEVENT
DTSTART;TZID=America/New_York:20261106T080000
DTEND;TZID=America/New_York:20261107T170000
DTSTAMP:20260422T180347
CREATED:20251029T204114Z
LAST-MODIFIED:20260127T175005Z
UID:10002936-1793952000-1794070800@events.leeuniversity.edu
SUMMARY:Homecoming
DESCRIPTION:.
URL:https://events.leeuniversity.edu/event/homecoming-2/
LOCATION:TN
CATEGORIES:Academic
ATTACH;FMTTYPE=image/jpeg:https://events.leeuniversity.edu/wp-content/uploads/homecoming-2.jpg
END:VEVENT
BEGIN:VEVENT
DTSTART;TZID=America/New_York:20261125T080000
DTEND;TZID=America/New_York:20261127T170000
DTSTAMP:20260422T180347
CREATED:20251029T204000Z
LAST-MODIFIED:20260127T175015Z
UID:10002935-1795593600-1795798800@events.leeuniversity.edu
SUMMARY:Thanksgiving Holiday No Classes
DESCRIPTION:Offices Closed November 26-27
URL:https://events.leeuniversity.edu/event/thanksgiving-holiday-no-classes-3/
LOCATION:TN
CATEGORIES:Academic
ATTACH;FMTTYPE=image/jpeg:https://events.leeuniversity.edu/wp-content/uploads/Central-Campus-Fall-2.jpg
END:VEVENT
END:VCALENDAR