BEGIN:VCALENDAR
VERSION:2.0
PRODID:-//Lee University Events - ECPv6.15.17.1//NONSGML v1.0//EN
CALSCALE:GREGORIAN
METHOD:PUBLISH
X-WR-CALNAME:Lee University Events
X-ORIGINAL-URL:https://events.leeuniversity.edu
X-WR-CALDESC:Events for Lee University Events
REFRESH-INTERVAL;VALUE=DURATION:PT1H
X-Robots-Tag:noindex
X-PUBLISHED-TTL:PT1H
BEGIN:VTIMEZONE
TZID:America/New_York
BEGIN:DAYLIGHT
TZOFFSETFROM:-0500
TZOFFSETTO:-0400
TZNAME:EDT
DTSTART:20250309T070000
END:DAYLIGHT
BEGIN:STANDARD
TZOFFSETFROM:-0400
TZOFFSETTO:-0500
TZNAME:EST
DTSTART:20251102T060000
END:STANDARD
BEGIN:DAYLIGHT
TZOFFSETFROM:-0500
TZOFFSETTO:-0400
TZNAME:EDT
DTSTART:20260308T070000
END:DAYLIGHT
BEGIN:STANDARD
TZOFFSETFROM:-0400
TZOFFSETTO:-0500
TZNAME:EST
DTSTART:20261101T060000
END:STANDARD
BEGIN:DAYLIGHT
TZOFFSETFROM:-0500
TZOFFSETTO:-0400
TZNAME:EDT
DTSTART:20270314T070000
END:DAYLIGHT
BEGIN:STANDARD
TZOFFSETFROM:-0400
TZOFFSETTO:-0500
TZNAME:EST
DTSTART:20271107T060000
END:STANDARD
END:VTIMEZONE
BEGIN:VEVENT
DTSTART;TZID=America/New_York:20260224T104500
DTEND;TZID=America/New_York:20260224T113000
DTSTAMP:20260424T082036
CREATED:20260116T133829Z
LAST-MODIFIED:20260116T211411Z
UID:10003085-1771929900-1771932600@events.leeuniversity.edu
SUMMARY:Chapel – Dr. Julie Martinez
DESCRIPTION:Conn Center – 150 11th St NE\, Cleveland\, TN\, 37311
URL:https://events.leeuniversity.edu/event/chapel-dr-julie-martinez/
LOCATION:Conn Center\, 150 11th St NE\, Cleveland\, TN\, 37312\, United States
CATEGORIES:Chapel
ATTACH;FMTTYPE=image/png:https://events.leeuniversity.edu/wp-content/uploads/Conn-Center-Graphic-5.png
ORGANIZER;CN="LEEU":MAILTO:info@leeuniversity.edu
END:VEVENT
BEGIN:VEVENT
DTSTART;TZID=America/New_York:20260224T104500
DTEND;TZID=America/New_York:20260224T113000
DTSTAMP:20260424T082036
CREATED:20260116T134022Z
LAST-MODIFIED:20260116T211435Z
UID:10003086-1771929900-1771932600@events.leeuniversity.edu
SUMMARY:Chapel – Dr. Paige Rapson
DESCRIPTION:Dixon Center – 1053 Church St NE\, Cleveland\, TN 37311
URL:https://events.leeuniversity.edu/event/chapel-dr-paige-rapson/
LOCATION:Dixon Center\, 1053 Church St\, Cleveland\, TN\, 37311\, United States
CATEGORIES:Chapel
ATTACH;FMTTYPE=image/png:https://events.leeuniversity.edu/wp-content/uploads/Dixon-Center-Graphic-5-scaled.png
ORGANIZER;CN="LEEU":MAILTO:info@leeuniversity.edu
END:VEVENT
BEGIN:VEVENT
DTSTART;TZID=America/New_York:20260226T104500
DTEND;TZID=America/New_York:20260226T113000
DTSTAMP:20260424T082036
CREATED:20260127T145439Z
LAST-MODIFIED:20260216T150210Z
UID:10003098-1772102700-1772105400@events.leeuniversity.edu
SUMMARY:Chapel - Sami Skipworth
DESCRIPTION:Dixon Center – 1053 Church St NE\, Cleveland\, TN 37311
URL:https://events.leeuniversity.edu/event/chapel-10/
LOCATION:Dixon Center\, 1053 Church St\, Cleveland\, TN\, 37311\, United States
CATEGORIES:Chapel
ATTACH;FMTTYPE=image/png:https://events.leeuniversity.edu/wp-content/uploads/Dixon-Center-Graphic-7.png
ORGANIZER;CN="LEEU":MAILTO:info@leeuniversity.edu
END:VEVENT
BEGIN:VEVENT
DTSTART;TZID=America/New_York:20260226T104500
DTEND;TZID=America/New_York:20260226T233000
DTSTAMP:20260424T082036
CREATED:20260127T145230Z
LAST-MODIFIED:20260127T150032Z
UID:10003097-1772102700-1772148600@events.leeuniversity.edu
SUMMARY:Chapel – Pastor Wes Lutes
DESCRIPTION:Conn Center – 150 11th St NE\, Cleveland\, TN\, 37311
URL:https://events.leeuniversity.edu/event/chapel-pastor-wes-lutes-2/
LOCATION:Conn Center\, 150 11th St NE\, Cleveland\, TN\, 37312\, United States
CATEGORIES:Chapel
ATTACH;FMTTYPE=image/png:https://events.leeuniversity.edu/wp-content/uploads/Conn-Center-Graphic-7-scaled.png
ORGANIZER;CN="LEEU":MAILTO:info@leeuniversity.edu
END:VEVENT
END:VCALENDAR