BEGIN:VCALENDAR
VERSION:2.0
PRODID:-//Lee University Events - ECPv6.15.17.1//NONSGML v1.0//EN
CALSCALE:GREGORIAN
METHOD:PUBLISH
X-ORIGINAL-URL:https://events.leeuniversity.edu
X-WR-CALDESC:Events for Lee University Events
REFRESH-INTERVAL;VALUE=DURATION:PT1H
X-Robots-Tag:noindex
X-PUBLISHED-TTL:PT1H
BEGIN:VTIMEZONE
TZID:America/New_York
BEGIN:DAYLIGHT
TZOFFSETFROM:-0500
TZOFFSETTO:-0400
TZNAME:EDT
DTSTART:20250309T070000
END:DAYLIGHT
BEGIN:STANDARD
TZOFFSETFROM:-0400
TZOFFSETTO:-0500
TZNAME:EST
DTSTART:20251102T060000
END:STANDARD
BEGIN:DAYLIGHT
TZOFFSETFROM:-0500
TZOFFSETTO:-0400
TZNAME:EDT
DTSTART:20260308T070000
END:DAYLIGHT
BEGIN:STANDARD
TZOFFSETFROM:-0400
TZOFFSETTO:-0500
TZNAME:EST
DTSTART:20261101T060000
END:STANDARD
BEGIN:DAYLIGHT
TZOFFSETFROM:-0500
TZOFFSETTO:-0400
TZNAME:EDT
DTSTART:20270314T070000
END:DAYLIGHT
BEGIN:STANDARD
TZOFFSETFROM:-0400
TZOFFSETTO:-0500
TZNAME:EST
DTSTART:20271107T060000
END:STANDARD
END:VTIMEZONE
BEGIN:VEVENT
DTSTART;TZID=America/New_York:20260303T104500
DTEND;TZID=America/New_York:20260303T113000
DTSTAMP:20260422T123040
CREATED:20260127T145919Z
LAST-MODIFIED:20260127T145919Z
UID:10003099-1772534700-1772537400@events.leeuniversity.edu
SUMMARY:Chapel - Pastor Nick Dalton
DESCRIPTION:Conn Center – 150 11th St NE\, Cleveland\, TN\, 37311
URL:https://events.leeuniversity.edu/event/chapel-pastor-nick-dalton/
LOCATION:Conn Center\, 150 11th St NE\, Cleveland\, TN\, 37312\, United States
CATEGORIES:Chapel
ATTACH;FMTTYPE=image/png:https://events.leeuniversity.edu/wp-content/uploads/Conn-Center-Graphic-8-scaled.png
ORGANIZER;CN="LEEU":MAILTO:info@leeuniversity.edu
END:VEVENT
BEGIN:VEVENT
DTSTART;TZID=America/New_York:20260303T104500
DTEND;TZID=America/New_York:20260303T113000
DTSTAMP:20260422T123040
CREATED:20260127T150427Z
LAST-MODIFIED:20260127T150427Z
UID:10003100-1772534700-1772537400@events.leeuniversity.edu
SUMMARY:Chapel - International Women's Day - Dr. Lenena Brezna
DESCRIPTION:The Chapel – 1020 North Ocoee St NE\, Cleveland\, TN 37311
URL:https://events.leeuniversity.edu/event/chapel-international-womens-day-dr-lenena-brezna/
LOCATION:The Chapel
CATEGORIES:Chapel
ATTACH;FMTTYPE=image/jpeg:https://events.leeuniversity.edu/wp-content/uploads/The-Chapel-Graphic-1.jpg
ORGANIZER;CN="LEEU":MAILTO:info@leeuniversity.edu
END:VEVENT
BEGIN:VEVENT
DTSTART;TZID=America/New_York:20260305T104500
DTEND;TZID=America/New_York:20260305T113000
DTSTAMP:20260422T123040
CREATED:20260127T151237Z
LAST-MODIFIED:20260127T151237Z
UID:10003101-1772707500-1772710200@events.leeuniversity.edu
SUMMARY:Chapel
DESCRIPTION:Dixon Center – 1053 Church St NE\, Cleveland\, TN 37311
URL:https://events.leeuniversity.edu/event/chapel-11/
LOCATION:Dixon Center\, 1053 Church St\, Cleveland\, TN\, 37311\, United States
CATEGORIES:Chapel
ATTACH;FMTTYPE=image/png:https://events.leeuniversity.edu/wp-content/uploads/Dixon-Center-Graphic-8.png
ORGANIZER;CN="LEEU":MAILTO:info@leeuniversity.edu
END:VEVENT
BEGIN:VEVENT
DTSTART;TZID=America/New_York:20260317T104500
DTEND;TZID=America/New_York:20260317T113000
DTSTAMP:20260422T123040
CREATED:20260127T151444Z
LAST-MODIFIED:20260127T151444Z
UID:10003102-1773744300-1773747000@events.leeuniversity.edu
SUMMARY:Chapel - Dr. Paul Conn
DESCRIPTION:Conn Center – 150 11th St NE\, Cleveland\, TN\, 37311
URL:https://events.leeuniversity.edu/event/chapel-dr-paul-conn-2/
LOCATION:Conn Center\, 150 11th St NE\, Cleveland\, TN\, 37312\, United States
CATEGORIES:Chapel
ATTACH;FMTTYPE=image/png:https://events.leeuniversity.edu/wp-content/uploads/Conn-Center-Graphic-9-scaled.png
ORGANIZER;CN="LEEU":MAILTO:info@leeuniversity.edu
END:VEVENT
BEGIN:VEVENT
DTSTART;TZID=America/New_York:20260317T104500
DTEND;TZID=America/New_York:20260317T113000
DTSTAMP:20260422T123040
CREATED:20260127T151656Z
LAST-MODIFIED:20260219T195740Z
UID:10003103-1773744300-1773747000@events.leeuniversity.edu
SUMMARY:Communion Chapel
DESCRIPTION:The Chapel – 1020 North Ocoee St NE\, Cleveland\, TN 37311
URL:https://events.leeuniversity.edu/event/communion-chapel-7/
LOCATION:The Chapel
CATEGORIES:Chapel
ATTACH;FMTTYPE=image/jpeg:https://events.leeuniversity.edu/wp-content/uploads/The-Chapel-Graphic-2.jpg
ORGANIZER;CN="LEEU":MAILTO:info@leeuniversity.edu
END:VEVENT
BEGIN:VEVENT
DTSTART;TZID=America/New_York:20260319T104500
DTEND;TZID=America/New_York:20260319T113000
DTSTAMP:20260422T123040
CREATED:20260127T151934Z
LAST-MODIFIED:20260127T151934Z
UID:10003104-1773917100-1773919800@events.leeuniversity.edu
SUMMARY:Chapel - Pastor Jason Daughdrill
DESCRIPTION:Conn Center – 150 11th St NE\, Cleveland\, TN\, 37311
URL:https://events.leeuniversity.edu/event/chapel-pastor-jason-daughdrill/
LOCATION:Conn Center\, 150 11th St NE\, Cleveland\, TN\, 37312\, United States
CATEGORIES:Chapel
ATTACH;FMTTYPE=image/png:https://events.leeuniversity.edu/wp-content/uploads/Conn-Center-Graphic-10-scaled.png
ORGANIZER;CN="LEEU":MAILTO:info@leeuniversity.edu
END:VEVENT
BEGIN:VEVENT
DTSTART;TZID=America/New_York:20260324T104500
DTEND;TZID=America/New_York:20260324T233000
DTSTAMP:20260422T123040
CREATED:20260127T152316Z
LAST-MODIFIED:20260127T152316Z
UID:10003107-1774349100-1774395000@events.leeuniversity.edu
SUMMARY:Chapel - Dr. Phil Cook
DESCRIPTION:Conn Center – 150 11th St NE\, Cleveland\, TN\, 37311
URL:https://events.leeuniversity.edu/event/chapel-dr-phil-cook-2/
LOCATION:Conn Center\, 150 11th St NE\, Cleveland\, TN\, 37312\, United States
CATEGORIES:Chapel
ATTACH;FMTTYPE=image/png:https://events.leeuniversity.edu/wp-content/uploads/Conn-Center-Graphic-12-scaled.png
ORGANIZER;CN="LEEU":MAILTO:info@leeuniversity.edu
END:VEVENT
BEGIN:VEVENT
DTSTART;TZID=America/New_York:20260326T104500
DTEND;TZID=America/New_York:20260326T113000
DTSTAMP:20260422T123040
CREATED:20260319T192115Z
LAST-MODIFIED:20260319T192115Z
UID:10003286-1774521900-1774524600@events.leeuniversity.edu
SUMMARY:Chapel - Vanessa Hardaway
DESCRIPTION:Conn Center – 150 11th St NE\, Cleveland\, TN\, 37311
URL:https://events.leeuniversity.edu/event/chapel-vanessa-hardaway/
LOCATION:Conn Center\, 150 11th St NE\, Cleveland\, TN\, 37312\, United States
CATEGORIES:Chapel
ATTACH;FMTTYPE=image/png:https://events.leeuniversity.edu/wp-content/uploads/Conn-Center-Graphic-13-scaled.png
ORGANIZER;CN="LEEU":MAILTO:info@leeuniversity.edu
END:VEVENT
BEGIN:VEVENT
DTSTART;TZID=America/New_York:20260329T193000
DTEND;TZID=America/New_York:20260329T203000
DTSTAMP:20260422T123040
CREATED:20260127T152722Z
LAST-MODIFIED:20260129T134352Z
UID:10003108-1774812600-1774816200@events.leeuniversity.edu
SUMMARY:U-Church: An Evening of Worship
DESCRIPTION:Conn Center – 150 11th St NE\, Cleveland\, TN\, 37311
URL:https://events.leeuniversity.edu/event/u-church-an-evening-of-worship-2/
LOCATION:Conn Center\, 150 11th St NE\, Cleveland\, TN\, 37312\, United States
CATEGORIES:Chapel
ATTACH;FMTTYPE=image/jpeg:https://events.leeuniversity.edu/wp-content/uploads/An-Evening-of-Worship.jpg
ORGANIZER;CN="LEEU":MAILTO:info@leeuniversity.edu
END:VEVENT
BEGIN:VEVENT
DTSTART;TZID=America/New_York:20260331T104500
DTEND;TZID=America/New_York:20260331T113000
DTSTAMP:20260422T123040
CREATED:20260319T192346Z
LAST-MODIFIED:20260319T192346Z
UID:10003287-1774953900-1774956600@events.leeuniversity.edu
SUMMARY:Chapel - Jason Robinson
DESCRIPTION:Conn Center – 150 11th St NE\, Cleveland\, TN\, 37311
URL:https://events.leeuniversity.edu/event/chapel-jason-robinson/
LOCATION:Conn Center\, 150 11th St NE\, Cleveland\, TN\, 37312\, United States
CATEGORIES:Chapel
ATTACH;FMTTYPE=image/png:https://events.leeuniversity.edu/wp-content/uploads/Conn-Center-Graphic-14-scaled.png
ORGANIZER;CN="LEEU":MAILTO:info@leeuniversity.edu
END:VEVENT
END:VCALENDAR