BEGIN:VCALENDAR
VERSION:2.0
PRODID:-//Lee University Events - ECPv6.15.17.1//NONSGML v1.0//EN
CALSCALE:GREGORIAN
METHOD:PUBLISH
X-WR-CALNAME:Lee University Events
X-ORIGINAL-URL:https://events.leeuniversity.edu
X-WR-CALDESC:Events for Lee University Events
REFRESH-INTERVAL;VALUE=DURATION:PT1H
X-Robots-Tag:noindex
X-PUBLISHED-TTL:PT1H
BEGIN:VTIMEZONE
TZID:America/New_York
BEGIN:DAYLIGHT
TZOFFSETFROM:-0500
TZOFFSETTO:-0400
TZNAME:EDT
DTSTART:20240310T070000
END:DAYLIGHT
BEGIN:STANDARD
TZOFFSETFROM:-0400
TZOFFSETTO:-0500
TZNAME:EST
DTSTART:20241103T060000
END:STANDARD
BEGIN:DAYLIGHT
TZOFFSETFROM:-0500
TZOFFSETTO:-0400
TZNAME:EDT
DTSTART:20250309T070000
END:DAYLIGHT
BEGIN:STANDARD
TZOFFSETFROM:-0400
TZOFFSETTO:-0500
TZNAME:EST
DTSTART:20251102T060000
END:STANDARD
BEGIN:DAYLIGHT
TZOFFSETFROM:-0500
TZOFFSETTO:-0400
TZNAME:EDT
DTSTART:20260308T070000
END:DAYLIGHT
BEGIN:STANDARD
TZOFFSETFROM:-0400
TZOFFSETTO:-0500
TZNAME:EST
DTSTART:20261101T060000
END:STANDARD
END:VTIMEZONE
BEGIN:VEVENT
DTSTART;VALUE=DATE:20250204
DTEND;VALUE=DATE:20250205
DTSTAMP:20260422T111645
CREATED:20231101T184717Z
LAST-MODIFIED:20231101T184717Z
UID:10000194-1738627200-1738713599@events.leeuniversity.edu
SUMMARY:Faculty Meeting
DESCRIPTION:Faculty Meeting
URL:https://events.leeuniversity.edu/event/faculty-meeting-5/
CATEGORIES:Academic
ORGANIZER;CN="LEEU":MAILTO:info@leeuniversity.edu
END:VEVENT
BEGIN:VEVENT
DTSTART;VALUE=DATE:20250204
DTEND;VALUE=DATE:20250205
DTSTAMP:20260422T111645
CREATED:20231101T184815Z
LAST-MODIFIED:20240118T171430Z
UID:10000195-1738627200-1738713599@events.leeuniversity.edu
SUMMARY:Graduation Meeting: Spring 2025 Graduates
DESCRIPTION:Graduation Meeting: Spring 2025 Graduates
URL:https://events.leeuniversity.edu/event/graduation-meeting-spring-2025-graduates/
CATEGORIES:Academic
ATTACH;FMTTYPE=image/jpeg:https://events.leeuniversity.edu/wp-content/uploads/event-header-image5-hmIpfy.tmp_.jpg
ORGANIZER;CN="LEEU":MAILTO:info@leeuniversity.edu
END:VEVENT
BEGIN:VEVENT
DTSTART;TZID=America/New_York:20250205T161500
DTEND;TZID=America/New_York:20250205T170000
DTSTAMP:20260422T111645
CREATED:20240404T190149Z
LAST-MODIFIED:20240819T200350Z
UID:10000159-1738772100-1738774800@events.leeuniversity.edu
SUMMARY:Staff Meeting
DESCRIPTION:Staff Meeting
URL:https://events.leeuniversity.edu/event/staff-meeting-6/
LOCATION:Dixon Center\, 1053 Church St\, Cleveland\, TN\, 37311\, United States
CATEGORIES:Academic
ORGANIZER;CN="LEEU":MAILTO:info@leeuniversity.edu
END:VEVENT
BEGIN:VEVENT
DTSTART;TZID=America/New_York:20250207T080000
DTEND;TZID=America/New_York:20250207T170000
DTSTAMP:20260422T111645
CREATED:20250207T160238Z
LAST-MODIFIED:20250207T160238Z
UID:10000324-1738915200-1738947600@events.leeuniversity.edu
SUMMARY:Senior Testing
DESCRIPTION:Senior Testing GNST 400
URL:https://events.leeuniversity.edu/event/senior-testing/
LOCATION:GNST 400
CATEGORIES:Academic
ATTACH;FMTTYPE=image/png:https://events.leeuniversity.edu/wp-content/uploads/Campus-Sunset-1.png
ORGANIZER;CN="LEEU":MAILTO:info@leeuniversity.edu
END:VEVENT
BEGIN:VEVENT
DTSTART;VALUE=DATE:20250215
DTEND;VALUE=DATE:20250216
DTSTAMP:20260422T111645
CREATED:20240118T171544Z
LAST-MODIFIED:20240118T171544Z
UID:10000155-1739577600-1739663999@events.leeuniversity.edu
SUMMARY:Senior Testing GNST 400
DESCRIPTION:Senior Testing GNST 400
URL:https://events.leeuniversity.edu/event/senior-testing-gnst-400-2/
CATEGORIES:Academic
ORGANIZER;CN="LEEU":MAILTO:info@leeuniversity.edu
END:VEVENT
BEGIN:VEVENT
DTSTART;VALUE=DATE:20250222
DTEND;VALUE=DATE:20250223
DTSTAMP:20260422T111645
CREATED:20240118T171717Z
LAST-MODIFIED:20240118T171717Z
UID:10000156-1740182400-1740268799@events.leeuniversity.edu
SUMMARY:Senior Testing SMFT
DESCRIPTION:Senior Testing SMFT
URL:https://events.leeuniversity.edu/event/senior-testing-smft-2/
CATEGORIES:Academic
ORGANIZER;CN="LEEU":MAILTO:info@leeuniversity.edu
END:VEVENT
BEGIN:VEVENT
DTSTART;VALUE=DATE:20250228
DTEND;VALUE=DATE:20250301
DTSTAMP:20260422T111645
CREATED:20231101T185001Z
LAST-MODIFIED:20231101T185001Z
UID:10000196-1740700800-1740787199@events.leeuniversity.edu
SUMMARY:Spring Graduation Applicants: Due date for Transfer grades to be posted and "I" grades to be removed
DESCRIPTION:Spring Graduation Applicants: Due date for Transfer grades to be posted and “I” grades to be removed
URL:https://events.leeuniversity.edu/event/spring-graduation-applicants-due-date-for-transfer-grades-to-be-posted-and-i-grades-to-be-removed-2/
CATEGORIES:Academic
ORGANIZER;CN="LEEU":MAILTO:info@leeuniversity.edu
END:VEVENT
END:VCALENDAR