BEGIN:VCALENDAR
VERSION:2.0
PRODID:-//Lee University Events - ECPv6.15.17.1//NONSGML v1.0//EN
CALSCALE:GREGORIAN
METHOD:PUBLISH
X-WR-CALNAME:Lee University Events
X-ORIGINAL-URL:https://events.leeuniversity.edu
X-WR-CALDESC:Events for Lee University Events
REFRESH-INTERVAL;VALUE=DURATION:PT1H
X-Robots-Tag:noindex
X-PUBLISHED-TTL:PT1H
BEGIN:VTIMEZONE
TZID:America/New_York
BEGIN:DAYLIGHT
TZOFFSETFROM:-0500
TZOFFSETTO:-0400
TZNAME:EDT
DTSTART:20250309T070000
END:DAYLIGHT
BEGIN:STANDARD
TZOFFSETFROM:-0400
TZOFFSETTO:-0500
TZNAME:EST
DTSTART:20251102T060000
END:STANDARD
BEGIN:DAYLIGHT
TZOFFSETFROM:-0500
TZOFFSETTO:-0400
TZNAME:EDT
DTSTART:20260308T070000
END:DAYLIGHT
BEGIN:STANDARD
TZOFFSETFROM:-0400
TZOFFSETTO:-0500
TZNAME:EST
DTSTART:20261101T060000
END:STANDARD
BEGIN:DAYLIGHT
TZOFFSETFROM:-0500
TZOFFSETTO:-0400
TZNAME:EDT
DTSTART:20270314T070000
END:DAYLIGHT
BEGIN:STANDARD
TZOFFSETFROM:-0400
TZOFFSETTO:-0500
TZNAME:EST
DTSTART:20271107T060000
END:STANDARD
END:VTIMEZONE
BEGIN:VEVENT
DTSTART;VALUE=DATE:20260330
DTEND;VALUE=DATE:20260331
DTSTAMP:20260423T085238
CREATED:20250212T140342Z
LAST-MODIFIED:20250919T203946Z
UID:10000372-1774828800-1774915199@events.leeuniversity.edu
SUMMARY:Last day to withdraw from a class with grade of "W"
DESCRIPTION:Last day to withdraw from a class with grade of “W”
URL:https://events.leeuniversity.edu/event/last-day-to-withdraw-from-a-class-with-grade-of-w/
CATEGORIES:Academic
ATTACH;FMTTYPE=image/png:https://events.leeuniversity.edu/wp-content/uploads/Campus-Sunset-7.png
ORGANIZER;CN="LEEU":MAILTO:info@leeuniversity.edu
END:VEVENT
BEGIN:VEVENT
DTSTART;VALUE=DATE:20260330
DTEND;VALUE=DATE:20260331
DTSTAMP:20260423T085238
CREATED:20251201T235809Z
LAST-MODIFIED:20260320T082709Z
UID:10002985-1774828800-1774915199@events.leeuniversity.edu
SUMMARY:Lee University Women's Golf vs Grand Harbor Classic
DESCRIPTION:Lee University Women’s Golf vs Grand Harbor Classic
URL:https://events.leeuniversity.edu/event/lee-university-womens-golf-vs-grand-harbor-classic/
LOCATION:Ninety Six\, S.C.
CATEGORIES:Athletics
ATTACH;FMTTYPE=image/jpeg:https://events.leeuniversity.edu/wp-content/uploads/Event-Header-Athletics-Default.jpg
END:VEVENT
BEGIN:VEVENT
DTSTART;VALUE=DATE:20260330
DTEND;VALUE=DATE:20260331
DTSTAMP:20260423T085238
CREATED:20251202T235835Z
LAST-MODIFIED:20260320T082709Z
UID:10003019-1774828800-1774915199@events.leeuniversity.edu
SUMMARY:Lee University Men's Golf at Argonaut Invitational
DESCRIPTION:Lee University Men’s Golf at Argonaut Invitational
URL:https://events.leeuniversity.edu/event/lee-university-mens-golf-at-argonaut-invitational/
LOCATION:Pensacola\, Fla.
CATEGORIES:Athletics
ATTACH;FMTTYPE=image/jpeg:https://events.leeuniversity.edu/wp-content/uploads/Event-Header-Athletics-Default.jpg
END:VEVENT
BEGIN:VEVENT
DTSTART;TZID=America/New_York:20260330T080000
DTEND;TZID=America/New_York:20260330T170000
DTSTAMP:20260423T085238
CREATED:20251009T123851Z
LAST-MODIFIED:20260202T193055Z
UID:10002895-1774857600-1774890000@events.leeuniversity.edu
SUMMARY:Last Day to withdraw from a class with a grade of “W”
DESCRIPTION:.
URL:https://events.leeuniversity.edu/event/last-day-to-withdraw-from-a-class-with-a-grade-of-w-4/
CATEGORIES:Academic
ATTACH;FMTTYPE=image/png:https://events.leeuniversity.edu/wp-content/uploads/Campus-Sunset-2-1024x555-1.png
ORGANIZER;CN="LEEU":MAILTO:info@leeuniversity.edu
END:VEVENT
BEGIN:VEVENT
DTSTART;TZID=America/New_York:20260330T113000
DTEND;TZID=America/New_York:20260330T140000
DTSTAMP:20260423T085238
CREATED:20260216T195009Z
LAST-MODIFIED:20260224T143325Z
UID:10003120-1774870200-1774879200@events.leeuniversity.edu
SUMMARY:Wear Teal Drink Deal-Teal Ribbon Giveaway
DESCRIPTION:Stop by the booth on the ped mall to pickup your Teal Day Ribbons in support of victims of sexual assault.  Wear your teal ribbon April 1 and get free fountain\, hot or iced coffee at any campus retail dining location.
URL:https://events.leeuniversity.edu/event/wear-teal-drink-deal-teal-ribbon-giveaway/2026-03-30/
LOCATION:Pedestrian Mall\, Cleveland\, TN\, 37311\, United States
CATEGORIES:Campus Events
ATTACH;FMTTYPE=image/png:https://events.leeuniversity.edu/wp-content/uploads/teal-day-thumbnail.png
ORGANIZER;CN="Title IX":MAILTO:kchapman@leeuniversity.edu
END:VEVENT
BEGIN:VEVENT
DTSTART;TZID=America/New_York:20260330T180000
DTEND;TZID=America/New_York:20260330T193000
DTSTAMP:20260423T085238
CREATED:20260121T200508Z
LAST-MODIFIED:20260121T200508Z
UID:10003089-1774893600-1774899000@events.leeuniversity.edu
SUMMARY:Senior Recital: Cody Hooper\, tenor
DESCRIPTION:3/30 – Senior Recital: Cody Hooper\, tenor; 6:00pm\, Squires
URL:https://events.leeuniversity.edu/event/senior-recital-cody-hooper-tenor/
LOCATION:HUM 108 Squires Recital Hall
CATEGORIES:Music
ATTACH;FMTTYPE=image/png:https://events.leeuniversity.edu/wp-content/uploads/Recitals-41.png
ORGANIZER;CN="LEEU":MAILTO:info@leeuniversity.edu
END:VEVENT
BEGIN:VEVENT
DTSTART;TZID=America/New_York:20260330T193000
DTEND;TZID=America/New_York:20260330T210000
DTSTAMP:20260423T085238
CREATED:20260225T211737Z
LAST-MODIFIED:20260225T211737Z
UID:10003285-1774899000-1774904400@events.leeuniversity.edu
SUMMARY:Orchestra Concert
DESCRIPTION:3/30 – Concert: Orchestra; 7:30pm\, Pangle
URL:https://events.leeuniversity.edu/event/orchestra-concert-4/
LOCATION:Pangle Hall
CATEGORIES:Music
ATTACH;FMTTYPE=image/png:https://events.leeuniversity.edu/wp-content/uploads/Orchestra-2-1.png
ORGANIZER;CN="LEEU":MAILTO:info@leeuniversity.edu
END:VEVENT
END:VCALENDAR