BEGIN:VCALENDAR
VERSION:2.0
PRODID:-//Lee University Events - ECPv6.15.17.1//NONSGML v1.0//EN
CALSCALE:GREGORIAN
METHOD:PUBLISH
X-ORIGINAL-URL:https://events.leeuniversity.edu
X-WR-CALDESC:Events for Lee University Events
REFRESH-INTERVAL;VALUE=DURATION:PT1H
X-Robots-Tag:noindex
X-PUBLISHED-TTL:PT1H
BEGIN:VTIMEZONE
TZID:America/New_York
BEGIN:DAYLIGHT
TZOFFSETFROM:-0500
TZOFFSETTO:-0400
TZNAME:EDT
DTSTART:20250309T070000
END:DAYLIGHT
BEGIN:STANDARD
TZOFFSETFROM:-0400
TZOFFSETTO:-0500
TZNAME:EST
DTSTART:20251102T060000
END:STANDARD
BEGIN:DAYLIGHT
TZOFFSETFROM:-0500
TZOFFSETTO:-0400
TZNAME:EDT
DTSTART:20260308T070000
END:DAYLIGHT
BEGIN:STANDARD
TZOFFSETFROM:-0400
TZOFFSETTO:-0500
TZNAME:EST
DTSTART:20261101T060000
END:STANDARD
BEGIN:DAYLIGHT
TZOFFSETFROM:-0500
TZOFFSETTO:-0400
TZNAME:EDT
DTSTART:20270314T070000
END:DAYLIGHT
BEGIN:STANDARD
TZOFFSETFROM:-0400
TZOFFSETTO:-0500
TZNAME:EST
DTSTART:20271107T060000
END:STANDARD
END:VTIMEZONE
BEGIN:VEVENT
DTSTART;VALUE=DATE:20260326
DTEND;VALUE=DATE:20260327
DTSTAMP:20260419T101556
CREATED:20250212T140704Z
LAST-MODIFIED:20250214T160931Z
UID:10000374-1774483200-1774569599@events.leeuniversity.edu
SUMMARY:Provost Posts Official Candidate List for Spring Graduation
DESCRIPTION:Provost Posts Official Candidate List for Spring Graduation
URL:https://events.leeuniversity.edu/event/provost-posts-official-candidate-list-for-spring-graduation/
CATEGORIES:Academic
ATTACH;FMTTYPE=image/png:https://events.leeuniversity.edu/wp-content/uploads/TestingProvost-3.png
ORGANIZER;CN="LEEU":MAILTO:info@leeuniversity.edu
END:VEVENT
BEGIN:VEVENT
DTSTART;VALUE=DATE:20260326
DTEND;VALUE=DATE:20260328
DTSTAMP:20260419T101556
CREATED:20251002T174437Z
LAST-MODIFIED:20260320T082708Z
UID:10002830-1774483200-1774655999@events.leeuniversity.edu
SUMMARY:Lee University Men's Track and Field vs Raleigh Relays
DESCRIPTION:Lee University Men’s Track and Field vs Raleigh Relays
URL:https://events.leeuniversity.edu/event/lee-university-mens-track-and-field-vs-raleigh-relays/
LOCATION:Raleigh\, N.C.
CATEGORIES:Athletics
ATTACH;FMTTYPE=image/jpeg:https://events.leeuniversity.edu/wp-content/uploads/Event-Header-Athletics-Default.jpg
END:VEVENT
BEGIN:VEVENT
DTSTART;VALUE=DATE:20260326
DTEND;VALUE=DATE:20260328
DTSTAMP:20260419T101556
CREATED:20251002T174437Z
LAST-MODIFIED:20260320T082708Z
UID:10002831-1774483200-1774655999@events.leeuniversity.edu
SUMMARY:Lee University Women's Track and Field vs Raleigh Relays
DESCRIPTION:Lee University Women’s Track and Field vs Raleigh Relays
URL:https://events.leeuniversity.edu/event/lee-university-womens-track-and-field-vs-raleigh-relays/
LOCATION:Raleigh\, N.C.
CATEGORIES:Athletics
ATTACH;FMTTYPE=image/jpeg:https://events.leeuniversity.edu/wp-content/uploads/Event-Header-Athletics-Default.jpg
END:VEVENT
BEGIN:VEVENT
DTSTART;TZID=America/New_York:20260326T104500
DTEND;TZID=America/New_York:20260326T113000
DTSTAMP:20260419T101556
CREATED:20260319T192115Z
LAST-MODIFIED:20260319T192115Z
UID:10003286-1774521900-1774524600@events.leeuniversity.edu
SUMMARY:Chapel - Vanessa Hardaway
DESCRIPTION:Conn Center – 150 11th St NE\, Cleveland\, TN\, 37311
URL:https://events.leeuniversity.edu/event/chapel-vanessa-hardaway/
LOCATION:Conn Center\, 150 11th St NE\, Cleveland\, TN\, 37312\, United States
CATEGORIES:Chapel
ATTACH;FMTTYPE=image/png:https://events.leeuniversity.edu/wp-content/uploads/Conn-Center-Graphic-13-scaled.png
ORGANIZER;CN="LEEU":MAILTO:info@leeuniversity.edu
END:VEVENT
BEGIN:VEVENT
DTSTART;TZID=America/New_York:20260326T140000
DTEND;TZID=America/New_York:20260326T170000
DTSTAMP:20260419T101556
CREATED:20251202T235834Z
LAST-MODIFIED:20260320T082708Z
UID:10003016-1774533600-1774544400@events.leeuniversity.edu
SUMMARY:Lee University Women's Tennis vs Lincoln Memorial University
DESCRIPTION:Lee University Women’s Tennis vs Lincoln Memorial University
URL:https://events.leeuniversity.edu/event/lee-university-womens-tennis-vs-lincoln-memorial-university/
LOCATION:Cleveland\, Tenn.\, DeVos Tennis Center
CATEGORIES:Athletics
ATTACH;FMTTYPE=image/jpeg:https://events.leeuniversity.edu/wp-content/uploads/Event-Header-Athletics-Default.jpg
END:VEVENT
BEGIN:VEVENT
DTSTART;TZID=America/New_York:20260326T193000
DTEND;TZID=America/New_York:20260326T210000
DTSTAMP:20260419T101556
CREATED:20251124T181450Z
LAST-MODIFIED:20251124T181450Z
UID:10002961-1774553400-1774558800@events.leeuniversity.edu
SUMMARY:Presidential Concert Series: Chris Brubeck's Triple Play
DESCRIPTION:3/26 – Presidential Concert Series: Chris Brubeck’s Triple Play; 7:30pm\, Dixon Center
URL:https://events.leeuniversity.edu/event/presidential-concert-series-chris-brubecks-triple-play/
LOCATION:Dixon Center\, 1053 Church St\, Cleveland\, TN\, 37311\, United States
CATEGORIES:Music
ATTACH;FMTTYPE=image/png:https://events.leeuniversity.edu/wp-content/uploads/Website-Stock-8.png
ORGANIZER;CN="LEEU":MAILTO:info@leeuniversity.edu
END:VEVENT
END:VCALENDAR