BEGIN:VCALENDAR
VERSION:2.0
PRODID:-//Lee University Events - ECPv6.15.17.1//NONSGML v1.0//EN
CALSCALE:GREGORIAN
METHOD:PUBLISH
X-ORIGINAL-URL:https://events.leeuniversity.edu
X-WR-CALDESC:Events for Lee University Events
REFRESH-INTERVAL;VALUE=DURATION:PT1H
X-Robots-Tag:noindex
X-PUBLISHED-TTL:PT1H
BEGIN:VTIMEZONE
TZID:America/New_York
BEGIN:DAYLIGHT
TZOFFSETFROM:-0500
TZOFFSETTO:-0400
TZNAME:EDT
DTSTART:20250309T070000
END:DAYLIGHT
BEGIN:STANDARD
TZOFFSETFROM:-0400
TZOFFSETTO:-0500
TZNAME:EST
DTSTART:20251102T060000
END:STANDARD
BEGIN:DAYLIGHT
TZOFFSETFROM:-0500
TZOFFSETTO:-0400
TZNAME:EDT
DTSTART:20260308T070000
END:DAYLIGHT
BEGIN:STANDARD
TZOFFSETFROM:-0400
TZOFFSETTO:-0500
TZNAME:EST
DTSTART:20261101T060000
END:STANDARD
BEGIN:DAYLIGHT
TZOFFSETFROM:-0500
TZOFFSETTO:-0400
TZNAME:EDT
DTSTART:20270314T070000
END:DAYLIGHT
BEGIN:STANDARD
TZOFFSETFROM:-0400
TZOFFSETTO:-0500
TZNAME:EST
DTSTART:20271107T060000
END:STANDARD
END:VTIMEZONE
BEGIN:VEVENT
DTSTART;TZID=America/New_York:20260306T160000
DTEND;TZID=America/New_York:20260306T180000
DTSTAMP:20260421T134657
CREATED:20251002T174428Z
LAST-MODIFIED:20260320T082702Z
UID:10002794-1772812800-1772820000@events.leeuniversity.edu
SUMMARY:Lee University Softball at Union University (Tenn.)
DESCRIPTION:[W] Lee University Softball at Union University (Tenn.)W 12-5Streaming Video: https://flosports.link/4jNTmKO
URL:https://events.leeuniversity.edu/event/lee-university-softball-at-union-university-tenn/
LOCATION:Jackson\, Tenn.
CATEGORIES:Athletics
ATTACH;FMTTYPE=image/jpeg:https://events.leeuniversity.edu/wp-content/uploads/Event-Header-Athletics-Default.jpg
END:VEVENT
BEGIN:VEVENT
DTSTART;TZID=America/New_York:20260306T163000
DTEND;TZID=America/New_York:20260306T193000
DTSTAMP:20260421T134657
CREATED:20251002T174428Z
LAST-MODIFIED:20260320T082703Z
UID:10002795-1772814600-1772825400@events.leeuniversity.edu
SUMMARY:Lee University Baseball at Union University (Tenn.)
DESCRIPTION:[W] Lee University Baseball at Union University (Tenn.)W 13-3 (7 inn.)Streaming Video: https://flosports.link/49sH4UJ
URL:https://events.leeuniversity.edu/event/lee-university-baseball-at-union-university-tenn/
LOCATION:Jackson\, Tenn.
CATEGORIES:Athletics
ATTACH;FMTTYPE=image/jpeg:https://events.leeuniversity.edu/wp-content/uploads/Event-Header-Athletics-Default.jpg
END:VEVENT
BEGIN:VEVENT
DTSTART;TZID=America/New_York:20260306T180000
DTEND;TZID=America/New_York:20260306T200000
DTSTAMP:20260421T134657
CREATED:20251002T174429Z
LAST-MODIFIED:20260320T082703Z
UID:10002797-1772820000-1772827200@events.leeuniversity.edu
SUMMARY:Lee University Softball at Union University (Tenn.)
DESCRIPTION:[W] Lee University Softball at Union University (Tenn.)W 5-0Streaming Video: https://flosports.link/4bn6Jj5
URL:https://events.leeuniversity.edu/event/lee-university-softball-at-union-university-tenn-2/
LOCATION:Jackson\, Tenn.
CATEGORIES:Athletics
ATTACH;FMTTYPE=image/jpeg:https://events.leeuniversity.edu/wp-content/uploads/Event-Header-Athletics-Default.jpg
END:VEVENT
BEGIN:VEVENT
DTSTART;TZID=America/New_York:20260306T193000
DTEND;TZID=America/New_York:20260306T223000
DTSTAMP:20260421T134657
CREATED:20251002T174428Z
LAST-MODIFIED:20260320T082703Z
UID:10002796-1772825400-1772836200@events.leeuniversity.edu
SUMMARY:Lee University Baseball at Union University (Tenn.)
DESCRIPTION:[L] Lee University Baseball at Union University (Tenn.)L 0-4Streaming Video: https://flosports.link/3YJbBaI
URL:https://events.leeuniversity.edu/event/lee-university-baseball-at-union-university-tenn-2/
LOCATION:Jackson\, Tenn.
CATEGORIES:Athletics
ATTACH;FMTTYPE=image/jpeg:https://events.leeuniversity.edu/wp-content/uploads/Event-Header-Athletics-Default.jpg
END:VEVENT
END:VCALENDAR