BEGIN:VCALENDAR
VERSION:2.0
PRODID:-//Lee University Events - ECPv6.15.17.1//NONSGML v1.0//EN
CALSCALE:GREGORIAN
METHOD:PUBLISH
X-WR-CALNAME:Lee University Events
X-ORIGINAL-URL:https://events.leeuniversity.edu
X-WR-CALDESC:Events for Lee University Events
REFRESH-INTERVAL;VALUE=DURATION:PT1H
X-Robots-Tag:noindex
X-PUBLISHED-TTL:PT1H
BEGIN:VTIMEZONE
TZID:America/New_York
BEGIN:DAYLIGHT
TZOFFSETFROM:-0500
TZOFFSETTO:-0400
TZNAME:EDT
DTSTART:20240310T070000
END:DAYLIGHT
BEGIN:STANDARD
TZOFFSETFROM:-0400
TZOFFSETTO:-0500
TZNAME:EST
DTSTART:20241103T060000
END:STANDARD
BEGIN:DAYLIGHT
TZOFFSETFROM:-0500
TZOFFSETTO:-0400
TZNAME:EDT
DTSTART:20250309T070000
END:DAYLIGHT
BEGIN:STANDARD
TZOFFSETFROM:-0400
TZOFFSETTO:-0500
TZNAME:EST
DTSTART:20251102T060000
END:STANDARD
BEGIN:DAYLIGHT
TZOFFSETFROM:-0500
TZOFFSETTO:-0400
TZNAME:EDT
DTSTART:20260308T070000
END:DAYLIGHT
BEGIN:STANDARD
TZOFFSETFROM:-0400
TZOFFSETTO:-0500
TZNAME:EST
DTSTART:20261101T060000
END:STANDARD
END:VTIMEZONE
BEGIN:VEVENT
DTSTART;VALUE=DATE:20251031
DTEND;VALUE=DATE:20251102
DTSTAMP:20260424T052523
CREATED:20251002T174352Z
LAST-MODIFIED:20251130T235724Z
UID:10002674-1761868800-1762041599@events.leeuniversity.edu
SUMMARY:Lee University Women's Tennis vs Gulf South Conference invitational
DESCRIPTION:[N] Lee University Women’s Tennis vs Gulf South Conference invitational
URL:https://events.leeuniversity.edu/event/lee-university-womens-tennis-vs-gulf-south-conference-invitational/
LOCATION:Mobile\, Ala.\, DeVos Tennis Center
CATEGORIES:Athletics
ATTACH;FMTTYPE=image/jpeg:https://events.leeuniversity.edu/wp-content/uploads/Event-Header-Athletics-Default.jpg
END:VEVENT
BEGIN:VEVENT
DTSTART;VALUE=DATE:20251031
DTEND;VALUE=DATE:20251102
DTSTAMP:20260424T052523
CREATED:20251002T174353Z
LAST-MODIFIED:20251130T235724Z
UID:10002675-1761868800-1762041599@events.leeuniversity.edu
SUMMARY:Lee University Men's Tennis vs Gulf South Conference invitational
DESCRIPTION:[N] Lee University Men’s Tennis vs Gulf South Conference invitational
URL:https://events.leeuniversity.edu/event/lee-university-mens-tennis-vs-gulf-south-conference-invitational/
LOCATION:Mobile\, Ala.\, DeVos Tennis Center
CATEGORIES:Athletics
ATTACH;FMTTYPE=image/jpeg:https://events.leeuniversity.edu/wp-content/uploads/Event-Header-Athletics-Default.jpg
END:VEVENT
BEGIN:VEVENT
DTSTART;TZID=America/New_York:20251031T080000
DTEND;TZID=America/New_York:20251101T170000
DTSTAMP:20260424T052523
CREATED:20251027T205614Z
LAST-MODIFIED:20251027T205614Z
UID:10002913-1761897600-1762016400@events.leeuniversity.edu
SUMMARY:ACS for Juniors
DESCRIPTION:Advisor evaluation must be completed to register on Oct. 31
URL:https://events.leeuniversity.edu/event/acs-for-juniors/
ATTACH;FMTTYPE=image/jpeg:https://events.leeuniversity.edu/wp-content/uploads/Lee-24.jpeg
END:VEVENT
BEGIN:VEVENT
DTSTART;VALUE=DATE:20251101
DTEND;VALUE=DATE:20251102
DTSTAMP:20260424T052523
CREATED:20250211T135659Z
LAST-MODIFIED:20250211T142143Z
UID:10000329-1761955200-1762041599@events.leeuniversity.edu
SUMMARY:Application to Graduate in Spring Opens
DESCRIPTION:Application to Graduate in Spring Opens
URL:https://events.leeuniversity.edu/event/application-to-graduate-in-spring-opens/
CATEGORIES:Academic
ATTACH;FMTTYPE=image/png:https://events.leeuniversity.edu/wp-content/uploads/Campus-Sunset-2.png
ORGANIZER;CN="LEEU":MAILTO:info@leeuniversity.edu
END:VEVENT
BEGIN:VEVENT
DTSTART;TZID=America/New_York:20251101T130000
DTEND;TZID=America/New_York:20251101T150000
DTSTAMP:20260424T052523
CREATED:20250521T155742Z
LAST-MODIFIED:20251201T235743Z
UID:10000551-1762002000-1762009200@events.leeuniversity.edu
SUMMARY:Lee University Volleyball at Mississippi College
DESCRIPTION:[W] Lee University Volleyball at Mississippi CollegeW 3-1 (13-25\, 30-28\, 25-16\, 25-22)Streaming Video: https://flosports.link/46AL0Sb
URL:https://events.leeuniversity.edu/event/lee-university-volleyball-at-mississippi-college/
LOCATION:Clinton\, Miss.
CATEGORIES:Athletics
ATTACH;FMTTYPE=image/jpeg:https://events.leeuniversity.edu/wp-content/uploads/Event-Header-Athletics-Default.jpg
END:VEVENT
END:VCALENDAR