BEGIN:VCALENDAR
VERSION:2.0
PRODID:-//Lee University Events - ECPv6.15.17.1//NONSGML v1.0//EN
CALSCALE:GREGORIAN
METHOD:PUBLISH
X-WR-CALNAME:Lee University Events
X-ORIGINAL-URL:https://events.leeuniversity.edu
X-WR-CALDESC:Events for Lee University Events
REFRESH-INTERVAL;VALUE=DURATION:PT1H
X-Robots-Tag:noindex
X-PUBLISHED-TTL:PT1H
BEGIN:VTIMEZONE
TZID:America/New_York
BEGIN:DAYLIGHT
TZOFFSETFROM:-0500
TZOFFSETTO:-0400
TZNAME:EDT
DTSTART:20240310T070000
END:DAYLIGHT
BEGIN:STANDARD
TZOFFSETFROM:-0400
TZOFFSETTO:-0500
TZNAME:EST
DTSTART:20241103T060000
END:STANDARD
BEGIN:DAYLIGHT
TZOFFSETFROM:-0500
TZOFFSETTO:-0400
TZNAME:EDT
DTSTART:20250309T070000
END:DAYLIGHT
BEGIN:STANDARD
TZOFFSETFROM:-0400
TZOFFSETTO:-0500
TZNAME:EST
DTSTART:20251102T060000
END:STANDARD
BEGIN:DAYLIGHT
TZOFFSETFROM:-0500
TZOFFSETTO:-0400
TZNAME:EDT
DTSTART:20260308T070000
END:DAYLIGHT
BEGIN:STANDARD
TZOFFSETFROM:-0400
TZOFFSETTO:-0500
TZNAME:EST
DTSTART:20261101T060000
END:STANDARD
END:VTIMEZONE
BEGIN:VEVENT
DTSTART;VALUE=DATE:20251031
DTEND;VALUE=DATE:20251102
DTSTAMP:20260424T073651
CREATED:20251002T174352Z
LAST-MODIFIED:20251130T235724Z
UID:10002674-1761868800-1762041599@events.leeuniversity.edu
SUMMARY:Lee University Women's Tennis vs Gulf South Conference invitational
DESCRIPTION:[N] Lee University Women’s Tennis vs Gulf South Conference invitational
URL:https://events.leeuniversity.edu/event/lee-university-womens-tennis-vs-gulf-south-conference-invitational/
LOCATION:Mobile\, Ala.\, DeVos Tennis Center
CATEGORIES:Athletics
ATTACH;FMTTYPE=image/jpeg:https://events.leeuniversity.edu/wp-content/uploads/Event-Header-Athletics-Default.jpg
END:VEVENT
BEGIN:VEVENT
DTSTART;VALUE=DATE:20251031
DTEND;VALUE=DATE:20251102
DTSTAMP:20260424T073651
CREATED:20251002T174353Z
LAST-MODIFIED:20251130T235724Z
UID:10002675-1761868800-1762041599@events.leeuniversity.edu
SUMMARY:Lee University Men's Tennis vs Gulf South Conference invitational
DESCRIPTION:[N] Lee University Men’s Tennis vs Gulf South Conference invitational
URL:https://events.leeuniversity.edu/event/lee-university-mens-tennis-vs-gulf-south-conference-invitational/
LOCATION:Mobile\, Ala.\, DeVos Tennis Center
CATEGORIES:Athletics
ATTACH;FMTTYPE=image/jpeg:https://events.leeuniversity.edu/wp-content/uploads/Event-Header-Athletics-Default.jpg
END:VEVENT
BEGIN:VEVENT
DTSTART;TZID=America/New_York:20251031T080000
DTEND;TZID=America/New_York:20251101T170000
DTSTAMP:20260424T073651
CREATED:20251027T205614Z
LAST-MODIFIED:20251027T205614Z
UID:10002913-1761897600-1762016400@events.leeuniversity.edu
SUMMARY:ACS for Juniors
DESCRIPTION:Advisor evaluation must be completed to register on Oct. 31
URL:https://events.leeuniversity.edu/event/acs-for-juniors/
ATTACH;FMTTYPE=image/jpeg:https://events.leeuniversity.edu/wp-content/uploads/Lee-24.jpeg
END:VEVENT
BEGIN:VEVENT
DTSTART;TZID=America/New_York:20251031T160000
DTEND;TZID=America/New_York:20251031T180000
DTSTAMP:20260424T073651
CREATED:20250515T154255Z
LAST-MODIFIED:20251130T235724Z
UID:10000519-1761926400-1761933600@events.leeuniversity.edu
SUMMARY:Lee University Women's Soccer vs Union University (Tenn.)
DESCRIPTION:[W] Lee University Women’s Soccer vs Union University (Tenn.)W 4-1Streaming Video: https://flosports.link/457BOlP
URL:https://events.leeuniversity.edu/event/lee-university-womens-soccer-vs-union-university-tenn/
LOCATION:Cleveland\, Tenn.\, Ray Conn Sports Complex
CATEGORIES:Athletics
ATTACH;FMTTYPE=image/jpeg:https://events.leeuniversity.edu/wp-content/uploads/Event-Header-Athletics-Default.jpg
END:VEVENT
BEGIN:VEVENT
DTSTART;TZID=America/New_York:20251031T180000
DTEND;TZID=America/New_York:20251031T190000
DTSTAMP:20260424T073652
CREATED:20250708T184246Z
LAST-MODIFIED:20250708T184246Z
UID:10000586-1761933600-1761937200@events.leeuniversity.edu
SUMMARY:Senior Recital: Emily Farley\, soprano & Blake Smith\, saxophone
DESCRIPTION:10/31 – Senior Recital: Emily Farley\, soprano & Blake Smith\, saxophone; 6:00pm\, Squires
URL:https://events.leeuniversity.edu/event/senior-recital-emily-farley-soprano-blake-smith-saxophone/
LOCATION:HUM 108 Squires Recital Hall
CATEGORIES:Music
ATTACH;FMTTYPE=image/png:https://events.leeuniversity.edu/wp-content/uploads/Recitals-7.png
ORGANIZER;CN="LEEU":MAILTO:info@leeuniversity.edu
END:VEVENT
BEGIN:VEVENT
DTSTART;TZID=America/New_York:20251031T180000
DTEND;TZID=America/New_York:20251031T200000
DTSTAMP:20260424T073652
CREATED:20250521T155742Z
LAST-MODIFIED:20251130T235724Z
UID:10000550-1761933600-1761940800@events.leeuniversity.edu
SUMMARY:Lee University Volleyball at University of West Alabama
DESCRIPTION:[L] Lee University Volleyball at University of West AlabamaL 2-3 (22-25\, 25-16\, 17-25\, 25-19\, 11-15)Streaming Video: https://flosports.link/4mjI8O2
URL:https://events.leeuniversity.edu/event/lee-university-volleyball-at-university-of-west-alabama/
LOCATION:Livingston\, Ala.
CATEGORIES:Athletics
ATTACH;FMTTYPE=image/jpeg:https://events.leeuniversity.edu/wp-content/uploads/Event-Header-Athletics-Default.jpg
END:VEVENT
BEGIN:VEVENT
DTSTART;TZID=America/New_York:20251031T183000
DTEND;TZID=America/New_York:20251031T203000
DTSTAMP:20260424T073652
CREATED:20250515T154256Z
LAST-MODIFIED:20251130T235724Z
UID:10000520-1761935400-1761942600@events.leeuniversity.edu
SUMMARY:Lee University Men's Soccer vs Union University (Tenn.)
DESCRIPTION:[W] Lee University Men’s Soccer vs Union University (Tenn.)W 3-1Streaming Video: https://flosports.link/3UB8Sh8
URL:https://events.leeuniversity.edu/event/lee-university-mens-soccer-vs-union-university-tenn/
LOCATION:Cleveland\, Tenn.\, Ray Conn Sports Complex
CATEGORIES:Athletics
ATTACH;FMTTYPE=image/jpeg:https://events.leeuniversity.edu/wp-content/uploads/Event-Header-Athletics-Default.jpg
END:VEVENT
END:VCALENDAR