BEGIN:VCALENDAR
VERSION:2.0
PRODID:-//Lee University Events - ECPv6.15.17.1//NONSGML v1.0//EN
CALSCALE:GREGORIAN
METHOD:PUBLISH
X-WR-CALNAME:Lee University Events
X-ORIGINAL-URL:https://events.leeuniversity.edu
X-WR-CALDESC:Events for Lee University Events
REFRESH-INTERVAL;VALUE=DURATION:PT1H
X-Robots-Tag:noindex
X-PUBLISHED-TTL:PT1H
BEGIN:VTIMEZONE
TZID:America/New_York
BEGIN:DAYLIGHT
TZOFFSETFROM:-0500
TZOFFSETTO:-0400
TZNAME:EDT
DTSTART:20240310T070000
END:DAYLIGHT
BEGIN:STANDARD
TZOFFSETFROM:-0400
TZOFFSETTO:-0500
TZNAME:EST
DTSTART:20241103T060000
END:STANDARD
BEGIN:DAYLIGHT
TZOFFSETFROM:-0500
TZOFFSETTO:-0400
TZNAME:EDT
DTSTART:20250309T070000
END:DAYLIGHT
BEGIN:STANDARD
TZOFFSETFROM:-0400
TZOFFSETTO:-0500
TZNAME:EST
DTSTART:20251102T060000
END:STANDARD
BEGIN:DAYLIGHT
TZOFFSETFROM:-0500
TZOFFSETTO:-0400
TZNAME:EDT
DTSTART:20260308T070000
END:DAYLIGHT
BEGIN:STANDARD
TZOFFSETFROM:-0400
TZOFFSETTO:-0500
TZNAME:EST
DTSTART:20261101T060000
END:STANDARD
END:VTIMEZONE
BEGIN:VEVENT
DTSTART;TZID=America/New_York:20251014T104500
DTEND;TZID=America/New_York:20251014T170000
DTSTAMP:20260422T075919
CREATED:20250925T163638Z
LAST-MODIFIED:20251009T230944Z
UID:10000653-1760438700-1760461200@events.leeuniversity.edu
SUMMARY:Chapel-Holly Perleoni
DESCRIPTION:
URL:https://events.leeuniversity.edu/event/holly-perleoni/
LOCATION:Dixon Center\, 1053 Church St\, Cleveland\, TN\, 37311\, United States
CATEGORIES:Chapel
ATTACH;FMTTYPE=image/jpeg:https://events.leeuniversity.edu/wp-content/uploads/EVENTS-DIXON-CENTER.jpg
ORGANIZER;CN="LEEU":MAILTO:info@leeuniversity.edu
END:VEVENT
BEGIN:VEVENT
DTSTART;TZID=America/New_York:20251014T104500
DTEND;TZID=America/New_York:20251014T230000
DTSTAMP:20260422T075919
CREATED:20250925T163545Z
LAST-MODIFIED:20251009T231628Z
UID:10000652-1760438700-1760482800@events.leeuniversity.edu
SUMMARY:Chapel-Phil Cook  
DESCRIPTION:
URL:https://events.leeuniversity.edu/event/phil-cook-4/
LOCATION:Conn Center\, 150 11th St NE\, Cleveland\, TN\, 37312\, United States
CATEGORIES:Chapel
ATTACH;FMTTYPE=image/jpeg:https://events.leeuniversity.edu/wp-content/uploads/EVENTS-CONN-CENTER.jpg
ORGANIZER;CN="LEEU":MAILTO:info@leeuniversity.edu
END:VEVENT
BEGIN:VEVENT
DTSTART;TZID=America/New_York:20251014T160000
DTEND;TZID=America/New_York:20251014T180000
DTSTAMP:20260422T075919
CREATED:20250521T155739Z
LAST-MODIFIED:20251114T225658Z
UID:10000544-1760457600-1760464800@events.leeuniversity.edu
SUMMARY:Lee University Volleyball vs Union University (Tenn.)
DESCRIPTION:[W] Lee University Volleyball vs Union University (Tenn.)W 3-1 (19-25\, 25-17\, 25-20\, 25-15)Streaming Video: https://flosports.link/3UJ83mt
URL:https://events.leeuniversity.edu/event/lee-university-volleyball-vs-union-university-tenn/
LOCATION:Cleveland\, Tenn.\, Paul Dana Walker Arena
CATEGORIES:Athletics
ATTACH;FMTTYPE=image/jpeg:https://events.leeuniversity.edu/wp-content/uploads/Event-Header-Athletics-Default.jpg
END:VEVENT
BEGIN:VEVENT
DTSTART;TZID=America/New_York:20251014T193000
DTEND;TZID=America/New_York:20251014T203000
DTSTAMP:20260422T075919
CREATED:20250708T183657Z
LAST-MODIFIED:20250708T183657Z
UID:10000584-1760470200-1760473800@events.leeuniversity.edu
SUMMARY:Chorale Concert
DESCRIPTION:10/14 – Concert: Chorale; 7:30pm\, Pangle
URL:https://events.leeuniversity.edu/event/chorale-concert/
LOCATION:Pangle Hall
CATEGORIES:Music
ATTACH;FMTTYPE=image/png:https://events.leeuniversity.edu/wp-content/uploads/Chorale.png
ORGANIZER;CN="LEEU":MAILTO:info@leeuniversity.edu
END:VEVENT
END:VCALENDAR