BEGIN:VCALENDAR
VERSION:2.0
PRODID:-//Lee University Events - ECPv6.15.17.1//NONSGML v1.0//EN
CALSCALE:GREGORIAN
METHOD:PUBLISH
X-ORIGINAL-URL:https://events.leeuniversity.edu
X-WR-CALDESC:Events for Lee University Events
REFRESH-INTERVAL;VALUE=DURATION:PT1H
X-Robots-Tag:noindex
X-PUBLISHED-TTL:PT1H
BEGIN:VTIMEZONE
TZID:America/New_York
BEGIN:DAYLIGHT
TZOFFSETFROM:-0500
TZOFFSETTO:-0400
TZNAME:EDT
DTSTART:20240310T070000
END:DAYLIGHT
BEGIN:STANDARD
TZOFFSETFROM:-0400
TZOFFSETTO:-0500
TZNAME:EST
DTSTART:20241103T060000
END:STANDARD
BEGIN:DAYLIGHT
TZOFFSETFROM:-0500
TZOFFSETTO:-0400
TZNAME:EDT
DTSTART:20250309T070000
END:DAYLIGHT
BEGIN:STANDARD
TZOFFSETFROM:-0400
TZOFFSETTO:-0500
TZNAME:EST
DTSTART:20251102T060000
END:STANDARD
BEGIN:DAYLIGHT
TZOFFSETFROM:-0500
TZOFFSETTO:-0400
TZNAME:EDT
DTSTART:20260308T070000
END:DAYLIGHT
BEGIN:STANDARD
TZOFFSETFROM:-0400
TZOFFSETTO:-0500
TZNAME:EST
DTSTART:20261101T060000
END:STANDARD
END:VTIMEZONE
BEGIN:VEVENT
DTSTART;TZID=America/New_York:20250923T060000
DTEND;TZID=America/New_York:20250923T080000
DTSTAMP:20260420T102429
CREATED:20250521T155737Z
LAST-MODIFIED:20250616T164152Z
UID:10000536-1758607200-1758614400@events.leeuniversity.edu
SUMMARY:Lee University Volleyball vs Christian Brothers University
DESCRIPTION:Lee University Volleyball vs Christian Brothers University
URL:https://events.leeuniversity.edu/event/lee-university-volleyball-vs-christian-brothers-university/
LOCATION:Cleveland\, Tenn.\, Paul Dana Walker Arena
CATEGORIES:Athletics
ATTACH;FMTTYPE=image/jpeg:https://events.leeuniversity.edu/wp-content/uploads/Event-Header-Athletics-Default.jpg
END:VEVENT
BEGIN:VEVENT
DTSTART;TZID=America/New_York:20250923T104500
DTEND;TZID=America/New_York:20250923T113000
DTSTAMP:20260420T102429
CREATED:20250820T190422Z
LAST-MODIFIED:20250905T130250Z
UID:10000617-1758624300-1758627000@events.leeuniversity.edu
SUMMARY:Chapel-Phil Cook  
DESCRIPTION:
URL:https://events.leeuniversity.edu/event/phil-cook-3/
LOCATION:Conn Center\, 150 11th St NE\, Cleveland\, TN\, 37312\, United States
CATEGORIES:Chapel
ATTACH;FMTTYPE=image/png:https://events.leeuniversity.edu/wp-content/uploads/CHAPEL.png
ORGANIZER;CN="LEEU":MAILTO:info@leeuniversity.edu
END:VEVENT
BEGIN:VEVENT
DTSTART;TZID=America/New_York:20250923T104500
DTEND;TZID=America/New_York:20250923T113000
DTSTAMP:20260420T102429
CREATED:20250827T134827Z
LAST-MODIFIED:20250827T134919Z
UID:10000630-1758624300-1758627000@events.leeuniversity.edu
SUMMARY:Communion Chapel
DESCRIPTION:
URL:https://events.leeuniversity.edu/event/communion-chapel-3/
LOCATION:Chapel
CATEGORIES:Chapel
ATTACH;FMTTYPE=image/png:https://events.leeuniversity.edu/wp-content/uploads/Campus-Sunset-13.png
ORGANIZER;CN="LEEU":MAILTO:info@leeuniversity.edu
END:VEVENT
END:VCALENDAR